BEGIN:VCALENDAR
VERSION:2.0
PRODID:-//Legacy Traditional Schools - ECPv6.15.17.1//NONSGML v1.0//EN
CALSCALE:GREGORIAN
METHOD:PUBLISH
X-WR-CALNAME:Legacy Traditional Schools
X-ORIGINAL-URL:https://legacytraditional.org
X-WR-CALDESC:Events for Legacy Traditional Schools
REFRESH-INTERVAL;VALUE=DURATION:PT1H
X-Robots-Tag:noindex
X-PUBLISHED-TTL:PT1H
BEGIN:VTIMEZONE
TZID:America/Phoenix
BEGIN:STANDARD
TZOFFSETFROM:-0700
TZOFFSETTO:-0700
TZNAME:MST
DTSTART:20250101T000000
END:STANDARD
END:VTIMEZONE
BEGIN:VEVENT
DTSTART;TZID=America/Phoenix:20260321T090000
DTEND;TZID=America/Phoenix:20260321T140000
DTSTAMP:20260421T135722
CREATED:20260302T230104Z
LAST-MODIFIED:20260321T201039Z
UID:10000013-1774083600-1774101600@legacytraditional.org
SUMMARY:Queen Creek Family Market - Schnepf Farm
DESCRIPTION:Join Legacy at the family market on Schnepf Farm!\n\n\nJoin Legacy at the Queen Creek Family Market at Schnepf Farms 🌽🍅 \nThe Family Market is the perfect Saturday outing for the whole family! Explore unique local vendors\, pick up fresh\, farm-grown produce\, and treat yourself to delicious bites from a variety of food trucks. 🌞 \n \nLegacy Traditional Schools will be there\, ready to connect with families and share exciting information about our tuition-free\, public charter school options! 🎓✨ \n \nBring the whole family and enjoy: \n✔️ Tasty eats from local food vendors \n✔️ Shopping from amazing local businesses \n✔️ Fun kids’ activities and entertainment \n✔️ A chance to meet the Legacy team and learn more about our schools \n \nStop by our table to chat\, ask questions\, and discover all the amazing opportunities we offer. We can’t wait to meet you! 💙 \n \nRSVP now!
URL:https://legacytraditional.org/event/queen-creek-family-market-schnepf-farm-2/
LOCATION:TX
CATEGORIES:Arizona,Queen Creek
ATTACH;FMTTYPE=image/jpeg:https://legacytraditional.org/wp-content/uploads/2026/03/d4dcd71a567ae541c74c0b6ef9613425.jpg
END:VEVENT
BEGIN:VEVENT
DTSTART;TZID=America/Phoenix:20260321T090000
DTEND;TZID=America/Phoenix:20260321T140000
DTSTAMP:20260421T135722
CREATED:20260309T212557Z
LAST-MODIFIED:20260309T214421Z
UID:10000017-1774083600-1774101600@legacytraditional.org
SUMMARY:Queen Creek Family Market - Schnepf Farm
DESCRIPTION:Join Legacy at the Queen Creek Family Market at Schnepf Farms 🌽🍅 \nThe Family Market is the perfect Saturday outing for the whole family! Explore unique local vendors\, pick up fresh\, farm-grown produce\, and treat yourself to delicious bites from a variety of food trucks. 🌞 \n \nLegacy Traditional Schools will be there\, ready to connect with families and share exciting information about our tuition-free\, public charter school options! 🎓✨ \n \nBring the whole family and enjoy: \n✔️ Tasty eats from local food vendors \n✔️ Shopping from amazing local businesses \n✔️ Fun kids’ activities and entertainment \n✔️ A chance to meet the Legacy team and learn more about our schools \n \nStop by our table to chat\, ask questions\, and discover all the amazing opportunities we offer. We can’t wait to meet you! 💙 \n \nRSVP now!
URL:https://legacytraditional.org/event/queen-creek-family-market-schnepf-farm-5/
LOCATION:Schnepf Farms\, 24810 South Rittenhouse Road\, Queen Creek\, AZ\, 85142\, United States
CATEGORIES:Arizona,Queen Creek
ATTACH;FMTTYPE=image/jpeg:https://legacytraditional.org/wp-content/uploads/2026/03/eb-event-https3A2F2Fcdn.evbuc_.com2Fimages2F11788497832F20202648380232F12Foriginal.20260302-231308.jpg
END:VEVENT
BEGIN:VEVENT
DTSTART;TZID=America/Phoenix:20260321T090000
DTEND;TZID=America/Phoenix:20260321T140000
DTSTAMP:20260421T135722
CREATED:20260321T212535Z
LAST-MODIFIED:20260323T172927Z
UID:10000109-1774083600-1774101600@legacytraditional.org
SUMMARY:Queen Creek Family Market - Schnepf Farm
DESCRIPTION:Join Legacy at the Queen Creek Family Market at Schnepf Farms 🌽🍅 \nThe Family Market is the perfect Saturday outing for the whole family! Explore unique local vendors\, pick up fresh\, farm-grown produce\, and treat yourself to delicious bites from a variety of food trucks. 🌞 \n \nLegacy Traditional Schools will be there\, ready to connect with families and share exciting information about our tuition-free\, public charter school options! 🎓✨ \n \nBring the whole family and enjoy: \n✔️ Tasty eats from local food vendors \n✔️ Shopping from amazing local businesses \n✔️ Fun kids’ activities and entertainment \n✔️ A chance to meet the Legacy team and learn more about our schools \n \nStop by our table to chat\, ask questions\, and discover all the amazing opportunities we offer. We can’t wait to meet you! 💙 \n \nRSVP now!
URL:https://legacytraditional.org/event/queen-creek-family-market-schnepf-farm-8/
LOCATION:Schnepf Farms\, 24810 South Rittenhouse Road\, Queen Creek\, AZ\, 85142\, United States
CATEGORIES:Arizona,Queen Creek
ATTACH;FMTTYPE=image/jpeg:https://legacytraditional.org/wp-content/uploads/2026/03/eb-event-https3A2F2Fcdn.evbuc_.com2Fimages2F11788497832F20202648380232F12Foriginal.20260302-231308-1.jpg
END:VEVENT
BEGIN:VEVENT
DTSTART;TZID=America/Phoenix:20260321T090000
DTEND;TZID=America/Phoenix:20260321T140000
DTSTAMP:20260421T135722
CREATED:20260321T222550Z
LAST-MODIFIED:20260323T172918Z
UID:10000110-1774083600-1774101600@legacytraditional.org
SUMMARY:Queen Creek Family Market - Schnepf Farm
DESCRIPTION:Join Legacy at the Queen Creek Family Market at Schnepf Farms 🌽🍅 \nThe Family Market is the perfect Saturday outing for the whole family! Explore unique local vendors\, pick up fresh\, farm-grown produce\, and treat yourself to delicious bites from a variety of food trucks. 🌞 \n \nLegacy Traditional Schools will be there\, ready to connect with families and share exciting information about our tuition-free\, public charter school options! 🎓✨ \n \nBring the whole family and enjoy: \n✔️ Tasty eats from local food vendors \n✔️ Shopping from amazing local businesses \n✔️ Fun kids’ activities and entertainment \n✔️ A chance to meet the Legacy team and learn more about our schools \n \nStop by our table to chat\, ask questions\, and discover all the amazing opportunities we offer. We can’t wait to meet you! 💙 \n \nRSVP now!
URL:https://legacytraditional.org/event/queen-creek-family-market-schnepf-farm-9/
LOCATION:Schnepf Farms\, 24810 South Rittenhouse Road\, Queen Creek\, AZ\, 85142\, United States
CATEGORIES:Arizona,Queen Creek
ATTACH;FMTTYPE=image/jpeg:https://legacytraditional.org/wp-content/uploads/2026/03/eb-event-https3A2F2Fcdn.evbuc_.com2Fimages2F11788497832F20202648380232F12Foriginal.20260302-231308-2.jpg
END:VEVENT
BEGIN:VEVENT
DTSTART;TZID=America/Phoenix:20260321T090000
DTEND;TZID=America/Phoenix:20260321T140000
DTSTAMP:20260421T135722
CREATED:20260321T232544Z
LAST-MODIFIED:20260323T172906Z
UID:10000111-1774083600-1774101600@legacytraditional.org
SUMMARY:Queen Creek Family Market - Schnepf Farm
DESCRIPTION:Join Legacy at the Queen Creek Family Market at Schnepf Farms 🌽🍅 \nThe Family Market is the perfect Saturday outing for the whole family! Explore unique local vendors\, pick up fresh\, farm-grown produce\, and treat yourself to delicious bites from a variety of food trucks. 🌞 \n \nLegacy Traditional Schools will be there\, ready to connect with families and share exciting information about our tuition-free\, public charter school options! 🎓✨ \n \nBring the whole family and enjoy: \n✔️ Tasty eats from local food vendors \n✔️ Shopping from amazing local businesses \n✔️ Fun kids’ activities and entertainment \n✔️ A chance to meet the Legacy team and learn more about our schools \n \nStop by our table to chat\, ask questions\, and discover all the amazing opportunities we offer. We can’t wait to meet you! 💙 \n \nRSVP now!
URL:https://legacytraditional.org/event/queen-creek-family-market-schnepf-farm-10/
LOCATION:Schnepf Farms\, 24810 South Rittenhouse Road\, Queen Creek\, AZ\, 85142\, United States
CATEGORIES:Arizona,Queen Creek
ATTACH;FMTTYPE=image/jpeg:https://legacytraditional.org/wp-content/uploads/2026/03/eb-event-https3A2F2Fcdn.evbuc_.com2Fimages2F11788497832F20202648380232F12Foriginal.20260302-231308-3.jpg
END:VEVENT
END:VCALENDAR