BEGIN:VCALENDAR
VERSION:2.0
PRODID:-//Legacy Traditional Schools - ECPv6.15.17.1//NONSGML v1.0//EN
CALSCALE:GREGORIAN
METHOD:PUBLISH
X-ORIGINAL-URL:https://legacytraditional.org
X-WR-CALDESC:Events for Legacy Traditional Schools
REFRESH-INTERVAL;VALUE=DURATION:PT1H
X-Robots-Tag:noindex
X-PUBLISHED-TTL:PT1H
BEGIN:VTIMEZONE
TZID:America/Phoenix
BEGIN:STANDARD
TZOFFSETFROM:-0700
TZOFFSETTO:-0700
TZNAME:MST
DTSTART:20250101T000000
END:STANDARD
END:VTIMEZONE
BEGIN:VEVENT
DTSTART;TZID=America/Phoenix:20260326T170000
DTEND;TZID=America/Phoenix:20260326T180000
DTSTAMP:20260421T135859
CREATED:20260309T212704Z
LAST-MODIFIED:20260309T213829Z
UID:10000056-1774544400-1774548000@legacytraditional.org
SUMMARY:Pre-K Open House at Legacy - Mesa
DESCRIPTION:Legacy Traditional Schools invites you to attend our Spring Pre-K Open House!! \n✏️ Join us to meet Legacy staff\, take a tour\, learn about the Pre-K enrollment process and discover how our hands-on learning and play-based activities help prepare students for Kindergarten. \nEnrollment spaces are still available for the 2025-26 school year and applications for 2026-27 will open SOON! Our Pre-K spots tend to fill quickly\, so this is a great time to get started. \n \nENROLL TODAY at https://legacytraditional.org/pre-kindergarten \n \nLegacy Pre-K spots are limited and offered on a first-come\, first-serve basis . . . sign up on the interest list today!!! \n \n*NOTE: The Pre-K program is open to children who turn four years old by August 31.
URL:https://legacytraditional.org/event/pre-k-open-house-at-legacy-mesa/
LOCATION:Legacy Traditional School – Mesa\, 3651 East McKellips Road\, Mesa\, AZ\, 85215\, United States
CATEGORIES:Arizona,Mesa
ATTACH;FMTTYPE=image/jpeg:https://legacytraditional.org/wp-content/uploads/2026/03/eb-event-https3A2F2Fcdn.evbuc_.com2Fimages2F9572689732F1919452437692F12Foriginal.20250210-190923-15.jpg
END:VEVENT
BEGIN:VEVENT
DTSTART;TZID=America/Phoenix:20260326T170000
DTEND;TZID=America/Phoenix:20260326T180000
DTSTAMP:20260421T135859
CREATED:20260309T212705Z
LAST-MODIFIED:20260309T213308Z
UID:10000057-1774544400-1774548000@legacytraditional.org
SUMMARY:Pre-K Open House at Legacy - Surprise
DESCRIPTION:Legacy Traditional Schools invites you to attend our Spring Pre-K Open House!! \n✏️ Join us to meet Legacy staff\, take a tour\, learn about the Pre-K enrollment process and discover how our hands-on learning and play-based activities help prepare students for Kindergarten. \nEnrollment spaces are still available for the 2025-26 school year and applications for 2026-27 will open SOON! Our Pre-K spots tend to fill quickly\, so this is a great time to get started. \n \nENROLL TODAY at https://legacytraditional.org/pre-kindergarten \n \nLegacy Pre-K spots are limited and offered on a first-come\, first-serve basis . . . sign up on the interest list today!!! \n \n*NOTE: The Pre-K program is open to children who turn four years old by August 31.
URL:https://legacytraditional.org/event/pre-k-open-house-at-legacy-surprise/
LOCATION:Legacy Traditional School – Surprise\, 14506 West Sweetwater Avenue\, Surprise\, AZ\, 85379\, United States
CATEGORIES:Arizona,Surprise
ATTACH;FMTTYPE=image/jpeg:https://legacytraditional.org/wp-content/uploads/2026/03/eb-event-https3A2F2Fcdn.evbuc_.com2Fimages2F9572689732F1919452437692F12Foriginal.20250210-190923-16.jpg
END:VEVENT
BEGIN:VEVENT
DTSTART;TZID=America/Phoenix:20260326T180000
DTEND;TZID=America/Phoenix:20260326T190000
DTSTAMP:20260421T135859
CREATED:20260318T232619Z
LAST-MODIFIED:20260319T192806Z
UID:10000106-1774548000-1774551600@legacytraditional.org
SUMMARY:Legacy *Virtual* Info Night for Kinder Families
DESCRIPTION:Ready to discover what a day in the life of a Legacy Traditional School Kinder student looks like? \nJoin us for the Legacy Virtual Kinder Info Night!! This special event is specifically for interested and new Kindergarten families! \n***ZOOM DETAILS*** will be shared 24-hours before the event. \nABOUT the EVENT . . .  \nDuring this engaging session\, our Legacy Academics team will guide families through: \n🎓💻 Legacy’s well-rounded Kinder curriculum designed to set students up for success in every subject \n🎨🎶🏃 Specials like Art\, Music\, and PE to nurture creativity and active lifestyles \n⏰ Before and after school care options that support working families \n👕📚 School policies\, uniforms\, and more!  \n❓💬 Live Q&A – Drop your questions in the chat and get real-time answers from our enrollment team! \n📺Can’t wait for the event . . .watch the Legacy Kindergarten FAQ video to get answers to frequently asked questions. \nWe look forward to connecting with you and sharing more about the Legacy Kinder experience! \n🔗 Visit https://legacytraditional.org/kindergarten for more information.
URL:https://legacytraditional.org/event/legacy-virtual-info-night-for-kinder-families/
LOCATION:TX
CATEGORIES:Arizona
ATTACH;FMTTYPE=image/jpeg:https://legacytraditional.org/wp-content/uploads/2026/03/eb-event-https3A2F2Fcdn.evbuc_.com2Fimages2F10043982132F1919452437692F12Foriginal.20250408-233026.jpg
END:VEVENT
BEGIN:VEVENT
DTSTART;TZID=America/Phoenix:20260326T180000
DTEND;TZID=America/Phoenix:20260326T190000
DTSTAMP:20260421T135859
CREATED:20260327T022521Z
LAST-MODIFIED:20260327T022521Z
UID:10000195-1774548000-1774551600@legacytraditional.org
SUMMARY:Legacy *Virtual* Info Night for Kinder Families
DESCRIPTION:Ready to discover what a day in the life of a Legacy Kinder student looks like? \nJoin us for the Legacy Virtual Kinder Info Night!! This special event is specifically for interested and new Kindergarten families! \n***ZOOM DETAILS*** \n\nZoom Link: https://zoom.us/j/96148009018\nDial-in Audio: 1-346-248-7799;96148009018#\nWebinar ID: 961 4800 9018\n\nABOUT the EVENT . . . \nDuring this engaging session\, our Legacy Academics team will guide families through: \n🎓💻 Legacy’s well-rounded Kinder curriculum is designed to set students up for success in every subject \n🎨🎶🏃 Specials like Art\, Music\, and PE to nurture creativity and active lifestyles \n⏰ Before and after school care options that support working families \n👕📚 School policies\, uniforms\, and more! \n❓💬 Live Q&A – Drop your questions in the chat and get real-time answers from our enrollment team! \n📺Can’t wait for the event . . .watch the Legacy Kindergarten FAQ video to get answers to frequently asked questions. \nWe look forward to connecting with you and sharing more about the Legacy Kinder experience! \n🔗 Visit https://legacytraditional.org/kindergarten for more information.
URL:https://legacytraditional.org/event/legacy-virtual-info-night-for-kinder-families-2/
LOCATION:TX
ATTACH;FMTTYPE=image/jpeg:https://legacytraditional.org/wp-content/uploads/2026/03/eb-event-https3A2F2Fcdn.evbuc_.com2Fimages2F10043982132F1919452437692F12Foriginal.20250408-233026-1.jpg
END:VEVENT
BEGIN:VEVENT
DTSTART;TZID=America/Phoenix:20260326T180000
DTEND;TZID=America/Phoenix:20260326T190000
DTSTAMP:20260421T135859
CREATED:20260327T032514Z
LAST-MODIFIED:20260327T032514Z
UID:10000196-1774548000-1774551600@legacytraditional.org
SUMMARY:Legacy *Virtual* Info Night for Kinder Families
DESCRIPTION:Ready to discover what a day in the life of a Legacy Kinder student looks like? \nJoin us for the Legacy Virtual Kinder Info Night!! This special event is specifically for interested and new Kindergarten families! \n***ZOOM DETAILS*** \n\nZoom Link: https://zoom.us/j/96148009018\nDial-in Audio: 1-346-248-7799;96148009018#\nWebinar ID: 961 4800 9018\n\nABOUT the EVENT . . . \nDuring this engaging session\, our Legacy Academics team will guide families through: \n🎓💻 Legacy’s well-rounded Kinder curriculum is designed to set students up for success in every subject \n🎨🎶🏃 Specials like Art\, Music\, and PE to nurture creativity and active lifestyles \n⏰ Before and after school care options that support working families \n👕📚 School policies\, uniforms\, and more! \n❓💬 Live Q&A – Drop your questions in the chat and get real-time answers from our enrollment team! \n📺Can’t wait for the event . . .watch the Legacy Kindergarten FAQ video to get answers to frequently asked questions. \nWe look forward to connecting with you and sharing more about the Legacy Kinder experience! \n🔗 Visit https://legacytraditional.org/kindergarten for more information.
URL:https://legacytraditional.org/event/legacy-virtual-info-night-for-kinder-families-3/
LOCATION:TX
ATTACH;FMTTYPE=image/jpeg:https://legacytraditional.org/wp-content/uploads/2026/03/eb-event-https3A2F2Fcdn.evbuc_.com2Fimages2F10043982132F1919452437692F12Foriginal.20250408-233026-2.jpg
END:VEVENT
END:VCALENDAR