BEGIN:VCALENDAR
VERSION:2.0
PRODID:-//Legacy Traditional Schools - ECPv6.15.17.1//NONSGML v1.0//EN
CALSCALE:GREGORIAN
METHOD:PUBLISH
X-WR-CALNAME:Legacy Traditional Schools
X-ORIGINAL-URL:https://legacytraditional.org
X-WR-CALDESC:Events for Legacy Traditional Schools
REFRESH-INTERVAL;VALUE=DURATION:PT1H
X-Robots-Tag:noindex
X-PUBLISHED-TTL:PT1H
BEGIN:VTIMEZONE
TZID:America/Phoenix
BEGIN:STANDARD
TZOFFSETFROM:-0700
TZOFFSETTO:-0700
TZNAME:MST
DTSTART:20250101T000000
END:STANDARD
END:VTIMEZONE
BEGIN:VEVENT
DTSTART;TZID=America/Phoenix:20260409T130000
DTEND;TZID=America/Phoenix:20260409T133000
DTSTAMP:20260421T121951
CREATED:20260409T162529Z
LAST-MODIFIED:20260409T162529Z
UID:10000335-1775739600-1775741400@legacytraditional.org
SUMMARY:Test  Event
DESCRIPTION:Testing out EB Organizer App
URL:https://legacytraditional.org/event/test-event/
LOCATION:Vertex Education\, East Queen Creek Road\, Chandler\, AZ\, 85286\, US
END:VEVENT
BEGIN:VEVENT
DTSTART;TZID=America/Phoenix:20260409T130000
DTEND;TZID=America/Phoenix:20260409T133000
DTSTAMP:20260421T121951
CREATED:20260409T212537Z
LAST-MODIFIED:20260409T212537Z
UID:10000337-1775739600-1775741400@legacytraditional.org
SUMMARY:Test  Event
DESCRIPTION:Testing out EB Organizer App
URL:https://legacytraditional.org/event/test-event-2/
LOCATION:Vertex Education\, East Queen Creek Road\, Chandler\, AZ\, 85286\, US
END:VEVENT
BEGIN:VEVENT
DTSTART;TZID=America/Phoenix:20260409T130000
DTEND;TZID=America/Phoenix:20260409T133000
DTSTAMP:20260421T121951
CREATED:20260409T222535Z
LAST-MODIFIED:20260409T222535Z
UID:10000338-1775739600-1775741400@legacytraditional.org
SUMMARY:Test  Event
DESCRIPTION:Testing out EB Organizer App
URL:https://legacytraditional.org/event/test-event-3/
LOCATION:Vertex Education\, East Queen Creek Road\, Chandler\, AZ\, 85286\, US
END:VEVENT
BEGIN:VEVENT
DTSTART;TZID=America/Phoenix:20260409T130000
DTEND;TZID=America/Phoenix:20260409T133000
DTSTAMP:20260421T121951
CREATED:20260409T232516Z
LAST-MODIFIED:20260409T232516Z
UID:10000339-1775739600-1775741400@legacytraditional.org
SUMMARY:Test  Event
DESCRIPTION:Testing out EB Organizer App
URL:https://legacytraditional.org/event/test-event-4/
LOCATION:Vertex Education\, East Queen Creek Road\, Chandler\, AZ\, 85286\, US
END:VEVENT
END:VCALENDAR