BEGIN:VCALENDAR
VERSION:2.0
PRODID:-//Legacy Traditional Schools - ECPv6.15.17.1//NONSGML v1.0//EN
CALSCALE:GREGORIAN
METHOD:PUBLISH
X-ORIGINAL-URL:https://legacytraditional.org
X-WR-CALDESC:Events for Legacy Traditional Schools
REFRESH-INTERVAL;VALUE=DURATION:PT1H
X-Robots-Tag:noindex
X-PUBLISHED-TTL:PT1H
BEGIN:VTIMEZONE
TZID:America/Phoenix
BEGIN:STANDARD
TZOFFSETFROM:-0700
TZOFFSETTO:-0700
TZNAME:MST
DTSTART:20250101T000000
END:STANDARD
END:VTIMEZONE
BEGIN:VTIMEZONE
TZID:America/Chicago
BEGIN:DAYLIGHT
TZOFFSETFROM:-0600
TZOFFSETTO:-0500
TZNAME:CDT
DTSTART:20250309T080000
END:DAYLIGHT
BEGIN:STANDARD
TZOFFSETFROM:-0500
TZOFFSETTO:-0600
TZNAME:CST
DTSTART:20251102T070000
END:STANDARD
BEGIN:DAYLIGHT
TZOFFSETFROM:-0600
TZOFFSETTO:-0500
TZNAME:CDT
DTSTART:20260308T080000
END:DAYLIGHT
BEGIN:STANDARD
TZOFFSETFROM:-0500
TZOFFSETTO:-0600
TZNAME:CST
DTSTART:20261101T070000
END:STANDARD
BEGIN:DAYLIGHT
TZOFFSETFROM:-0600
TZOFFSETTO:-0500
TZNAME:CDT
DTSTART:20270314T080000
END:DAYLIGHT
BEGIN:STANDARD
TZOFFSETFROM:-0500
TZOFFSETTO:-0600
TZNAME:CST
DTSTART:20271107T070000
END:STANDARD
END:VTIMEZONE
BEGIN:VEVENT
DTSTART;TZID=America/Phoenix:20260423T170000
DTEND;TZID=America/Phoenix:20260423T180000
DTSTAMP:20260421T122053
CREATED:20260406T082552Z
LAST-MODIFIED:20260420T213640Z
UID:10000267-1776963600-1776967200@legacytraditional.org
SUMMARY:Kinder Sneak Peek - North Chandler!
DESCRIPTION:You’re invited to Kinder Sneak Peek at Legacy Traditional Schools! \nDo you have a child starting kindergarten this fall? \nCome join Legacy for a FUN Kinder Sneak Peek event to get excited for the start of school in Fall 2026. \nMeet our teachers\, explore engaging activity stations\, take a campus tour\, and peek into our Kinder classrooms. It’s the perfect way to help your child feel comfortable and excited about their big first year. \nWe can’t wait to meet our future Legacy kinder students!!! \nNow Enrolling for 2026-27 School Year! \n\nClick HERE for Kindergarten info at Legacy Traditional Schools.
URL:https://legacytraditional.org/event/kinder-sneak-peek-north-chandler/
LOCATION:Legacy Traditional School – North Chandler\, 1900 North McQueen Road\, Chandler\, AZ\, 85225\, United States
CATEGORIES:Arizona,North Chandler
ATTACH;FMTTYPE=image/jpeg:https://legacytraditional.org/wp-content/uploads/2026/04/eb-event-https3A2F2Fcdn.evbuc_.com2Fimages2F11810711182F1919452437692F12Foriginal.20260331-075820-13.jpg
END:VEVENT
BEGIN:VEVENT
DTSTART;TZID=America/Phoenix:20260423T173000
DTEND;TZID=America/Phoenix:20260423T183000
DTSTAMP:20260421T122053
CREATED:20260406T072629Z
LAST-MODIFIED:20260420T213642Z
UID:10000263-1776965400-1776969000@legacytraditional.org
SUMMARY:Kinder Sneak Peek - Goodyear!
DESCRIPTION:You’re invited to Kinder Sneak Peek at Legacy Traditional Schools! \nDo you have a child starting kindergarten this fall? \nCome join Legacy for a FUN Kinder Sneak Peek event to get excited for the start of school in Fall 2026. \nMeet our teachers\, explore engaging activity stations\, take a campus tour\, and peek into our Kinder classrooms. It’s the perfect way to help your child feel comfortable and excited about their big first year. \nWe can’t wait to meet our future Legacy kinder students!!! \nNow Enrolling for 2026-27 School Year! \n\nClick HERE for Kindergarten info at Legacy Traditional Schools.
URL:https://legacytraditional.org/event/kinder-sneak-peek-goodyear/
LOCATION:Legacy Traditional School – Goodyear\, 16060 West Lower Buckeye Parkway\, Goodyear\, AZ\, 85338\, United States
CATEGORIES:Arizona,Goodyear
ATTACH;FMTTYPE=image/jpeg:https://legacytraditional.org/wp-content/uploads/2026/04/eb-event-https3A2F2Fcdn.evbuc_.com2Fimages2F11810711182F1919452437692F12Foriginal.20260331-075820-9.jpg
END:VEVENT
BEGIN:VEVENT
DTSTART;TZID=America/Chicago:20260423T173000
DTEND;TZID=America/Chicago:20260423T183000
DTSTAMP:20260421T122053
CREATED:20260409T183111Z
LAST-MODIFIED:20260414T232003Z
UID:10000336-1776965400-1776969000@legacytraditional.org
SUMMARY:Legacy - Texas Online Academy Virtual Jr. High Open House
DESCRIPTION:April 23: Legacy – TX Online Academy – Virtual Jr. High Open House at 5:30pm\n\n\n💻✨ Legacy Online Academy Virtual Open House ✨\nWe invite you and your family to join us for the Legacy Online Academy Virtual Open House on Thursday\, April 23\, at 5:30 p.m.! \n⭐️ Zoom details will be shared 24 hours before the event ⭐ \nThe tuition-free Legacy Online Academy offers a flexible\, high-quality distance-learning experience for JH students throughout San Antonio. \nAs leaders in education\, Legacy Traditional Schools proudly builds on proven teaching and learning techniques . . . now in a fully online format! \n👩‍🏫 During this session\, you’ll: \n\n👋 Meet admin and ask questions during the live Q&A\n💻 Learn about our online curriculum\, technology requirements\, and school policies\n📝 Explore the enrollment process and get answers to common FAQs\n\n➡️ Learn more: https://legacytraditional.org/texas/online/ \nThis virtual event is perfect for new and interested families eager to learn how Legacy Online Academy – Texas helps students learn\, grow\, and thrive — wherever they are! \n💙We can’t wait to see you online and show you why thousands of families across Texas have joined our Legacy family!
URL:https://legacytraditional.org/event/legacy-texas-online-academy-virtual-open-house/
LOCATION:TX
CATEGORIES:Legacy Online Academy Texas,Texas
ATTACH;FMTTYPE=image/jpeg:https://legacytraditional.org/wp-content/uploads/2026/04/12ef43f4537cd506875d694aa0598bea.jpg
END:VEVENT
BEGIN:VEVENT
DTSTART;TZID=America/Phoenix:20260423T173000
DTEND;TZID=America/Phoenix:20260423T183000
DTSTAMP:20260421T122053
CREATED:20260414T222620Z
LAST-MODIFIED:20260420T214121Z
UID:10000402-1776965400-1776969000@legacytraditional.org
SUMMARY:Legacy - Texas Online Academy Virtual Jr. High Open House
DESCRIPTION:💻✨ Legacy Online Academy Virtual Open House ✨\nWe invite you and your family to join us for the Legacy Online Academy Virtual Open House on Thursday\, April 23\, at 5:30 p.m.! \n⭐️ Zoom details will be shared 24 hours before the event ⭐ \nThe tuition-free Legacy Online Academy offers a flexible\, high-quality distance-learning experience for JH students throughout San Antonio. \nAs leaders in education\, Legacy Traditional Schools proudly builds on proven teaching and learning techniques . . . now in a fully online format! \n👩‍🏫 During this session\, you’ll: \n\n👋 Meet admin and ask questions during the live Q&A\n💻 Learn about our online curriculum\, technology requirements\, and school policies\n📝 Explore the enrollment process and get answers to common FAQs\n\n➡️ Learn more: https://legacytraditional.org/texas/online/ \nThis virtual event is perfect for new and interested families eager to learn how Legacy Online Academy – Texas helps students learn\, grow\, and thrive — wherever they are! \n💙We can’t wait to see you online and show you why thousands of families across Texas have joined our Legacy family!
URL:https://legacytraditional.org/event/legacy-texas-online-academy-virtual-jr-high-open-house/
LOCATION:TX
CATEGORIES:Legacy Online Academy Texas,Texas
ATTACH;FMTTYPE=image/jpeg:https://legacytraditional.org/wp-content/uploads/2026/04/eb-event-https3A2F2Fcdn.evbuc_.com2Fimages2F11821624002F1919452437692F12Foriginal.20260414-184013-scaled.jpg
END:VEVENT
BEGIN:VEVENT
DTSTART;TZID=America/Phoenix:20260423T180000
DTEND;TZID=America/Phoenix:20260423T190000
DTSTAMP:20260421T122053
CREATED:20260407T122613Z
LAST-MODIFIED:20260420T213643Z
UID:10000296-1776967200-1776970800@legacytraditional.org
SUMMARY:Legacy *Virtual* Info Night for Kinder Families
DESCRIPTION:Ready to discover what a day in the life of a Legacy Kinder student looks like? \nJoin us for the Legacy Virtual Kinder Info Night!! This special event is specifically for interested and new Kindergarten families! \n***ZOOM DETAILS*** will be shared 24 hours before the event \n \nABOUT . . . \nDuring this engaging session\, our Legacy Academics team will guide families through: \n🎓💻 Legacy’s well-rounded Kinder curriculum is designed to set students up for success in every subject \n🎨🎶🏃 Specials like Art\, Music\, and PE to nurture creativity and active lifestyles \n⏰ Before and after school care options that support working families \n👕📚 School policies\, uniforms\, and more! \n❓💬 Live Q&A – Drop your questions in the chat and get real-time answers from our enrollment team! \n📺Can’t wait for the event . . .watch the Legacy Kindergarten FAQ video to get answers to frequently asked questions. \nWe look forward to connecting with you and sharing more about the Legacy Kinder experience! \n🔗 Visit https://legacytraditional.org/kindergarten for more information.
URL:https://legacytraditional.org/event/legacy-virtual-info-night-for-kinder-families-4/
LOCATION:TX
ATTACH;FMTTYPE=image/jpeg:https://legacytraditional.org/wp-content/uploads/2026/04/eb-event-https3A2F2Fcdn.evbuc_.com2Fimages2F10043982132F1919452437692F12Foriginal.20250408-233026.jpg
END:VEVENT
END:VCALENDAR