BEGIN:VCALENDAR
VERSION:2.0
PRODID:-//Legacy Traditional Schools - ECPv6.15.17.1//NONSGML v1.0//EN
CALSCALE:GREGORIAN
METHOD:PUBLISH
X-WR-CALNAME:Legacy Traditional Schools
X-ORIGINAL-URL:https://legacytraditional.org
X-WR-CALDESC:Events for Legacy Traditional Schools
REFRESH-INTERVAL;VALUE=DURATION:PT1H
X-Robots-Tag:noindex
X-PUBLISHED-TTL:PT1H
BEGIN:VTIMEZONE
TZID:America/Phoenix
BEGIN:STANDARD
TZOFFSETFROM:-0700
TZOFFSETTO:-0700
TZNAME:MST
DTSTART:20250101T000000
END:STANDARD
END:VTIMEZONE
BEGIN:VEVENT
DTSTART;TZID=America/Phoenix:20260422T173000
DTEND;TZID=America/Phoenix:20260422T183000
DTSTAMP:20260425T043316
CREATED:20260407T182615Z
LAST-MODIFIED:20260422T201556Z
UID:10000326-1776879000-1776882600@legacytraditional.org
SUMMARY:Spring into Legacy - East Mesa
DESCRIPTION:Thinking about Legacy for your child? \n \nWe’d love for you to join us on April 22 for Spring into Legacy\, an evening event with tours and a presentation. \n \nThis event for interested families in grades K – 8 will give families a close-up look at the Legacy student experience and our well-rounded education. \nDuring the event\, families will: \n\nListen to a presentation overview about our campus\, curriculum\, programs\, and more\, like before- and after-school care \nMeet and Greet Legacy admin\nTake a guided campus tour and ask questions\nEnjoy light refreshments\n\n \nWe hope you’ll “spring” into the possibilities waiting for your family at Legacy Traditional Schools! \nNow Enrolling for 2026-27 School Year! \nWant to learn more about Legacy’s Public and Tuition-Free K-8 campus? \nClick HERE \n \n————————- \n***NOTE: Legacy’s specialized program offerings vary by campus\, but include: \n\nMomentum Fitness\nMozart Performing Arts\nMasterpiece Art\nMastermind (STEM)
URL:https://legacytraditional.org/event/spring-into-legacy-east-mesa/
LOCATION:Legacy Traditional School – East Mesa\, 10707 East Guadalupe Road\, Mesa\, AZ\, 85212\, United States
CATEGORIES:Arizona,East Mesa
ATTACH;FMTTYPE=image/jpeg:https://legacytraditional.org/wp-content/uploads/2026/04/eb-event-https3A2F2Fcdn.evbuc_.com2Fimages2F11816072052F28794094689912F12Foriginal.20260407-161405.jpg
END:VEVENT
BEGIN:VEVENT
DTSTART;TZID=America/Phoenix:20260422T053000
DTEND;TZID=America/Phoenix:20260422T183000
DTSTAMP:20260425T043316
CREATED:20260406T072624Z
LAST-MODIFIED:20260422T201547Z
UID:10000260-1776835800-1776882600@legacytraditional.org
SUMMARY:Kinder Sneak Peek - East Mesa!
DESCRIPTION:You’re invited to Kinder Sneak Peek at Legacy Traditional Schools! \nDo you have a child starting kindergarten this fall? \nCome join Legacy for a FUN Kinder Sneak Peek event to get excited for the start of school in Fall 2026. \nMeet our teachers\, explore engaging activity stations\, take a campus tour\, and peek into our Kinder classrooms. It’s the perfect way to help your child feel comfortable and excited about their big first year. \nWe can’t wait to meet our future Legacy kinder students!!! \nNow Enrolling for 2026-27 School Year! \n\nClick HERE for Kindergarten info at Legacy Traditional Schools.
URL:https://legacytraditional.org/event/kinder-sneak-peek-east-mesa/
LOCATION:Legacy Traditional School – East Mesa\, 10707 East Guadalupe Road\, Mesa\, AZ\, 85212\, United States
CATEGORIES:Arizona,East Mesa
ATTACH;FMTTYPE=image/jpeg:https://legacytraditional.org/wp-content/uploads/2026/04/eb-event-https3A2F2Fcdn.evbuc_.com2Fimages2F11810711182F1919452437692F12Foriginal.20260331-075820-6.jpg
END:VEVENT
BEGIN:VEVENT
DTSTART;TZID=America/Phoenix:20260410T173000
DTEND;TZID=America/Phoenix:20260410T183000
DTSTAMP:20260425T043316
CREATED:20260327T172528Z
LAST-MODIFIED:20260327T184209Z
UID:10000205-1775842200-1775845800@legacytraditional.org
SUMMARY:Legacy Programs Spotlight Night & Tours - East Mesa
DESCRIPTION:Ready to put the spotlight on your child’s education? \n \nJoin us at Legacy Programs Spotlight Night to see learning in action on our campus. \n \nFamilies will have the opportunity to explore our well-rounded programs and electives for students in grades 3-8\, like Mozart Performing Arts\, Momentum Fitness and more to help nurture their interests. \n \nThe event will feature: \n\nInteractive program stations\nStudent work on display\nGuided tours with staff to answer questions\nA closer look at how creativity\, movement\, and innovation come to life through learning at Legacy\nRefreshments\n\n \nWe hope you’ll attend and let Legacy put the spotlight on your family! \n***NOTE: Legacy’s specialized program offerings vary by campus\, but include: \n\nMomentum Fitness\nMozart Performing Arts\nMasterpiece Art\nMastermind (STEM)\n\n\nNow Enrolling for 2026-27 School Year! \nWant to learn more about Legacy’s Public and Tuition-Free K-8 campus? \nClick HERE
URL:https://legacytraditional.org/event/legacy-programs-spotlight-night-tours-east-mesa/
LOCATION:Legacy Traditional School – East Mesa\, 10707 East Guadalupe Road\, Mesa\, AZ\, 85212\, United States
CATEGORIES:Arizona,East Mesa
ATTACH;FMTTYPE=image/jpeg:https://legacytraditional.org/wp-content/uploads/2026/03/eb-event-https3A2F2Fcdn.evbuc_.com2Fimages2F11808535652F28794094689912F12Foriginal.20260327-171218.jpg
END:VEVENT
BEGIN:VEVENT
DTSTART;TZID=America/Phoenix:20260324T173000
DTEND;TZID=America/Phoenix:20260324T183000
DTSTAMP:20260425T043316
CREATED:20260325T032633Z
LAST-MODIFIED:20260325T223545Z
UID:10000188-1774373400-1774377000@legacytraditional.org
SUMMARY:Pre-K Open House at Legacy - East Mesa
DESCRIPTION:Legacy Traditional Schools invites you to attend our Spring Pre-K Open House!! \n✏️ Join us to meet Legacy staff\, take a tour\, learn about the Pre-K enrollment process and discover how our hands-on learning and play-based activities help prepare students for Kindergarten. \nEnrollment spaces are still available for the 2025-26 school year and applications for 2026-27 will open SOON! Our Pre-K spots tend to fill quickly\, so this is a great time to get started. \n \nENROLL TODAY at https://legacytraditional.org/pre-kindergarten \n \nLegacy Pre-K spots are limited and offered on a first-come\, first-serve basis . . . sign up on the interest list today!!! \n \n*NOTE: The Pre-K program is open to children who turn four years old by August 31.
URL:https://legacytraditional.org/event/pre-k-open-house-at-legacy-east-mesa-3/
LOCATION:Legacy Traditional School – East Mesa\, 10707 East Guadalupe Road\, Mesa\, AZ\, 85212\, United States
CATEGORIES:Arizona,East Mesa
ATTACH;FMTTYPE=image/jpeg:https://legacytraditional.org/wp-content/uploads/2026/03/eb-event-https3A2F2Fcdn.evbuc_.com2Fimages2F9572689732F1919452437692F12Foriginal.20250210-190923-51.jpg
END:VEVENT
BEGIN:VEVENT
DTSTART;TZID=America/Phoenix:20260324T173000
DTEND;TZID=America/Phoenix:20260324T183000
DTSTAMP:20260425T043316
CREATED:20260325T032604Z
LAST-MODIFIED:20260325T224111Z
UID:10000170-1774373400-1774377000@legacytraditional.org
SUMMARY:Bounce into Legacy - East Mesa!
DESCRIPTION:Bounce into a night of family fun at Legacy Traditional School on Tuesday\, March 24 at 5:30 p.m. This event is for incoming kindergarten through 2nd-grade families planning to enroll for the 2026-27 school year. \nEnjoy FREE indoor bounce houses\, coloring station\, refreshments\, and receive enrollment help on the spot! \n\nMeet the Legacy admin team\n\n\nGuided campus tours\n\n\nPresentation about Legacy’s curriculum and offerings including; Back to Basics Math and ELA\, PE\, Spanish\, Art\, Music\, Library\, and more!\n\n\nDiscover after-school programs such as Legacy Kids Care\, clubs\, and free tutoring\n\n**Children must be accompanied by an adult** \nNow Enrolling for 2026-27 School Year! \nWant to learn more about Legacy’s Public and Tuition-Free K-8 campus? Click HERE \n\nClick HERE for Kindergarten info at Legacy Traditional Schools.\n\nJoin us at the event and bounce into your Legacy journey!
URL:https://legacytraditional.org/event/bounce-into-legacy-east-mesa-3/
LOCATION:Legacy Traditional School – East Mesa\, 10707 East Guadalupe Road\, Mesa\, AZ\, 85212\, United States
CATEGORIES:Arizona,East Mesa
ATTACH;FMTTYPE=image/jpeg:https://legacytraditional.org/wp-content/uploads/2026/03/eb-event-https3A2F2Fcdn.evbuc_.com2Fimages2F11791167592F28794094689912F12Foriginal.20260305-160026-2.jpg
END:VEVENT
BEGIN:VEVENT
DTSTART;TZID=America/Phoenix:20260324T173000
DTEND;TZID=America/Phoenix:20260324T183000
DTSTAMP:20260425T043316
CREATED:20260325T022607Z
LAST-MODIFIED:20260325T224250Z
UID:10000152-1774373400-1774377000@legacytraditional.org
SUMMARY:Pre-K Open House at Legacy - East Mesa
DESCRIPTION:Legacy Traditional Schools invites you to attend our Spring Pre-K Open House!! \n✏️ Join us to meet Legacy staff\, take a tour\, learn about the Pre-K enrollment process and discover how our hands-on learning and play-based activities help prepare students for Kindergarten. \nEnrollment spaces are still available for the 2025-26 school year and applications for 2026-27 will open SOON! Our Pre-K spots tend to fill quickly\, so this is a great time to get started. \n \nENROLL TODAY at https://legacytraditional.org/pre-kindergarten \n \nLegacy Pre-K spots are limited and offered on a first-come\, first-serve basis . . . sign up on the interest list today!!! \n \n*NOTE: The Pre-K program is open to children who turn four years old by August 31.
URL:https://legacytraditional.org/event/pre-k-open-house-at-legacy-east-mesa-2/
LOCATION:Legacy Traditional School – East Mesa\, 10707 East Guadalupe Road\, Mesa\, AZ\, 85212\, United States
CATEGORIES:Arizona,East Mesa
ATTACH;FMTTYPE=image/jpeg:https://legacytraditional.org/wp-content/uploads/2026/03/eb-event-https3A2F2Fcdn.evbuc_.com2Fimages2F9572689732F1919452437692F12Foriginal.20250210-190923-36.jpg
END:VEVENT
BEGIN:VEVENT
DTSTART;TZID=America/Phoenix:20260324T173000
DTEND;TZID=America/Phoenix:20260324T183000
DTSTAMP:20260425T043316
CREATED:20260309T212655Z
LAST-MODIFIED:20260309T213939Z
UID:10000051-1774373400-1774377000@legacytraditional.org
SUMMARY:Pre-K Open House at Legacy - East Mesa
DESCRIPTION:Legacy Traditional Schools invites you to attend our Spring Pre-K Open House!! \n✏️ Join us to meet Legacy staff\, take a tour\, learn about the Pre-K enrollment process and discover how our hands-on learning and play-based activities help prepare students for Kindergarten. \nEnrollment spaces are still available for the 2025-26 school year and applications for 2026-27 will open SOON! Our Pre-K spots tend to fill quickly\, so this is a great time to get started. \n \nENROLL TODAY at https://legacytraditional.org/pre-kindergarten \n \nLegacy Pre-K spots are limited and offered on a first-come\, first-serve basis . . . sign up on the interest list today!!! \n \n*NOTE: The Pre-K program is open to children who turn four years old by August 31.
URL:https://legacytraditional.org/event/pre-k-open-house-at-legacy-east-mesa/
LOCATION:Legacy Traditional School – East Mesa\, 10707 East Guadalupe Road\, Mesa\, AZ\, 85212\, United States
CATEGORIES:Arizona,East Mesa
ATTACH;FMTTYPE=image/jpeg:https://legacytraditional.org/wp-content/uploads/2026/03/eb-event-https3A2F2Fcdn.evbuc_.com2Fimages2F9572689732F1919452437692F12Foriginal.20250210-190923-10.jpg
END:VEVENT
BEGIN:VEVENT
DTSTART;TZID=America/Phoenix:20260324T173000
DTEND;TZID=America/Phoenix:20260324T183000
DTSTAMP:20260425T043316
CREATED:20260309T212623Z
LAST-MODIFIED:20260309T214230Z
UID:10000031-1774373400-1774377000@legacytraditional.org
SUMMARY:Bounce into Legacy - East Mesa!
DESCRIPTION:Bounce into a night of family fun at Legacy Traditional School on Tuesday\, March 24 at 5:30 p.m. This event is for incoming kindergarten through 2nd-grade families planning to enroll for the 2026-27 school year. \nEnjoy FREE indoor bounce houses\, coloring station\, refreshments\, and receive enrollment help on the spot! \n\nMeet the Legacy admin team\n\n\nGuided campus tours\n\n\nPresentation about Legacy’s curriculum and offerings including; Back to Basics Math and ELA\, PE\, Spanish\, Art\, Music\, Library\, and more!\n\n\nDiscover after-school programs such as Legacy Kids Care\, clubs\, and free tutoring\n\n**Children must be accompanied by an adult** \nNow Enrolling for 2026-27 School Year! \nWant to learn more about Legacy’s Public and Tuition-Free K-8 campus? Click HERE \n\nClick HERE for Kindergarten info at Legacy Traditional Schools.\n\nJoin us at the event and bounce into your Legacy journey!
URL:https://legacytraditional.org/event/bounce-into-legacy-east-mesa/
LOCATION:Legacy Traditional School – East Mesa\, 10707 East Guadalupe Road\, Mesa\, AZ\, 85212\, United States
CATEGORIES:Arizona,East Mesa
ATTACH;FMTTYPE=image/jpeg:https://legacytraditional.org/wp-content/uploads/2026/03/eb-event-https3A2F2Fcdn.evbuc_.com2Fimages2F11791167592F28794094689912F12Foriginal.20260305-160026.jpg
END:VEVENT
END:VCALENDAR