BEGIN:VCALENDAR
VERSION:2.0
PRODID:-//Legacy Traditional Schools - ECPv6.15.17.1//NONSGML v1.0//EN
CALSCALE:GREGORIAN
METHOD:PUBLISH
X-WR-CALNAME:Legacy Traditional Schools
X-ORIGINAL-URL:https://legacytraditional.org
X-WR-CALDESC:Events for Legacy Traditional Schools
REFRESH-INTERVAL;VALUE=DURATION:PT1H
X-Robots-Tag:noindex
X-PUBLISHED-TTL:PT1H
BEGIN:VTIMEZONE
TZID:America/Phoenix
BEGIN:STANDARD
TZOFFSETFROM:-0700
TZOFFSETTO:-0700
TZNAME:MST
DTSTART:20250101T000000
END:STANDARD
END:VTIMEZONE
BEGIN:VEVENT
DTSTART;TZID=America/Phoenix:20260502T120000
DTEND;TZID=America/Phoenix:20260502T150000
DTSTAMP:20260419T020848
CREATED:20260415T042637Z
LAST-MODIFIED:20260415T203433Z
UID:10000409-1777723200-1777734000@legacytraditional.org
SUMMARY:Legacy Regional Arts Festival at Glendale
DESCRIPTION:2026 Legacy Traditional Schools Regional Arts Festival at Glendale for our West Valley students. \nJoin us Saturday\, April 18 from 12:00 p.m. – 3:00 p.m. West Regional Art Festival – Celebrating Student Creativity! \nJoin us in celebrating the artistic talents of our Legacy students! \n\n**Admission is FREE and open to the public.**\n\nStudents\, families\, friends\, and staff are invited to view the walking art gallery\, participate in FUN interactive art activities\, and attend the awards presentation. \nEvent Activities: \n\nInteractive art stations\nFood trucks onsite available for purchase\n\nCome support our students and experience the power of creativity! \n#EastRegionalArtFestival #StudentArtists #CelebrateCreativity. \nDid you know? . . . \n\nThe annual Legacy Regional Arts Festival has something for everyone and includes more than 800 pieces of artwork by LTS students through a walking art gallery.\n\nEvent Location: Legacy Traditional School – Glendale  \n“Arts education aids students in skills needed in the workplace: flexibility\, the ability to solve problems and communicate\, the ability to learn new skills\, to be creative and innovative\, and to strive for excellence.”– Joseph M. Calahan\, Director of Corporate Communications\, Xerox Corporation \nMark your calendars and come be a part of this vibrant celebration!
URL:https://legacytraditional.org/event/legacy-regional-arts-festival-at-glendale/
LOCATION:Legacy Traditional School – Glendale\, 13901 North 67th Avenue\, Glendale\, AZ\, 85306\, United States
CATEGORIES:Arizona,Glendale
ATTACH;FMTTYPE=image/jpeg:https://legacytraditional.org/wp-content/uploads/2026/04/eb-event-https3A2F2Fcdn.evbuc_.com2Fimages2F11821852132F1919452437692F12Foriginal.20260414-225643.jpg
END:VEVENT
END:VCALENDAR