BEGIN:VCALENDAR
VERSION:2.0
PRODID:-//Legacy Traditional Schools - ECPv6.15.17.1//NONSGML v1.0//EN
CALSCALE:GREGORIAN
METHOD:PUBLISH
X-WR-CALNAME:Legacy Traditional Schools
X-ORIGINAL-URL:https://legacytraditional.org
X-WR-CALDESC:Events for Legacy Traditional Schools
REFRESH-INTERVAL;VALUE=DURATION:PT1H
X-Robots-Tag:noindex
X-PUBLISHED-TTL:PT1H
BEGIN:VTIMEZONE
TZID:America/Phoenix
BEGIN:STANDARD
TZOFFSETFROM:-0700
TZOFFSETTO:-0700
TZNAME:MST
DTSTART:20250101T000000
END:STANDARD
END:VTIMEZONE
BEGIN:VEVENT
DTSTART;TZID=America/Phoenix:20260422T173000
DTEND;TZID=America/Phoenix:20260422T183000
DTSTAMP:20260424T175236
CREATED:20260411T042620Z
LAST-MODIFIED:20260422T201609Z
UID:10000392-1776879000-1776882600@legacytraditional.org
SUMMARY:Spring into Legacy - Queen Creek
DESCRIPTION:Thinking about Legacy for your child? \n \nWe’d love for you to join us on April 22 for Spring into Legacy\, an evening event with tours and a presentation. \n \nThis event for interested families in grades K – 8 will give families a close-up look at the Legacy student experience and our well-rounded education. \nDuring the event\, families will: \n\nListen to a presentation overview about our campus\, curriculum\, programs\, and more\, like before- and after-school care\nMeet and Greet Legacy admin\nTake a guided campus tour and ask questions\nEnjoy light refreshments\n\n \nWe hope you’ll “spring” into the possibilities waiting for your family at Legacy Traditional Schools! \nNow Enrolling for 2026-27 School Year! \nWant to learn more about Legacy’s Public and Tuition-Free K-8 campus? \nClick HERE \n \n————————- \n***NOTE: Legacy’s specialized program offerings vary by campus\, but include: \n\nMomentum Fitness\nMozart Performing Arts\nMasterpiece Art\nMastermind (STEM)
URL:https://legacytraditional.org/event/spring-into-legacy-queen-creek/
LOCATION:Legacy Traditional School – Queen Creek\, 41800 North Barnes Parkway\, Queen Creek\, AZ\, 85140\, United States
CATEGORIES:Arizona,Queen Creek
ATTACH;FMTTYPE=image/jpeg:https://legacytraditional.org/wp-content/uploads/2026/04/eb-event-https3A2F2Fcdn.evbuc_.com2Fimages2F11816073482F28794094689912F12Foriginal.20260407-161520.jpg
END:VEVENT
BEGIN:VEVENT
DTSTART;TZID=America/Phoenix:20260415T170000
DTEND;TZID=America/Phoenix:20260415T180000
DTSTAMP:20260424T175236
CREATED:20260406T072619Z
LAST-MODIFIED:20260415T203350Z
UID:10000258-1776272400-1776276000@legacytraditional.org
SUMMARY:Kinder Sneak Peek - Queen Creek!
DESCRIPTION:You’re invited to Kinder Sneak Peek at Legacy Traditional Schools! \nDo you have a child starting kindergarten this fall? \nCome join Legacy for a FUN Kinder Sneak Peek event to get excited for the start of school in Fall 2026. \nMeet our teachers\, explore engaging activity stations\, take a campus tour\, and peek into our Kinder classrooms. It’s the perfect way to help your child feel comfortable and excited about their big first year. \nWe can’t wait to meet our future Legacy kinder students!!! \nNow Enrolling for 2026-27 School Year! \n\nClick HERE for Kindergarten info at Legacy Traditional Schools.
URL:https://legacytraditional.org/event/kinder-sneak-peek-queen-creek/
LOCATION:Legacy Traditional School – Queen Creek\, 41800 North Barnes Parkway\, Queen Creek\, AZ\, 85140\, United States
CATEGORIES:Arizona,Queen Creek
ATTACH;FMTTYPE=image/jpeg:https://legacytraditional.org/wp-content/uploads/2026/04/eb-event-https3A2F2Fcdn.evbuc_.com2Fimages2F11810711182F1919452437692F12Foriginal.20260331-075820-4.jpg
END:VEVENT
BEGIN:VEVENT
DTSTART;TZID=America/Phoenix:20260411T090000
DTEND;TZID=America/Phoenix:20260411T140000
DTSTAMP:20260424T175236
CREATED:20260309T232617Z
LAST-MODIFIED:20260316T171325Z
UID:10000098-1775898000-1775916000@legacytraditional.org
SUMMARY:Queen Creek Family Market - Schnepf Farm
DESCRIPTION:Join Legacy at the Queen Creek Family Market at Schnepf Farms 🌽🍅 \nThe Family Market is the perfect Saturday outing for the whole family! Explore unique local vendors\, pick up fresh\, farm-grown produce\, and treat yourself to delicious bites from a variety of food trucks. 🌞 \n \nLegacy Traditional Schools will be there\, ready to connect with families and share exciting information about our tuition-free\, public charter school options! 🎓✨ \n \nBring the whole family and enjoy: \n✔️ Tasty eats from local food vendors \n✔️ Shopping from amazing local businesses \n✔️ Fun kids’ activities and entertainment \n✔️ A chance to meet the Legacy team and learn more about our schools \n \nStop by our table to chat\, ask questions\, and discover all the amazing opportunities we offer. We can’t wait to meet you! 💙 \n \nRSVP now!
URL:https://legacytraditional.org/event/queen-creek-family-market-schnepf-farm-6/
LOCATION:Schnepf Farms\, 24810 South Rittenhouse Road\, Queen Creek\, AZ\, 85142\, United States
CATEGORIES:Arizona,Queen Creek
ATTACH;FMTTYPE=image/jpeg:https://legacytraditional.org/wp-content/uploads/2026/03/eb-event-https3A2F2Fcdn.evbuc_.com2Fimages2F11704272482F28794094689912F12Foriginal.20251107-175409.jpg
END:VEVENT
BEGIN:VEVENT
DTSTART;TZID=America/Phoenix:20260411T090000
DTEND;TZID=America/Phoenix:20260411T140000
DTSTAMP:20260424T175236
CREATED:20260302T230106Z
LAST-MODIFIED:20260411T191523Z
UID:10000014-1775898000-1775916000@legacytraditional.org
SUMMARY:Queen Creek Family Market - Schnepf Farm
DESCRIPTION:Join Legacy at the family market on Schnepf Farm!\n\n\nJoin Legacy at the Queen Creek Family Market at Schnepf Farms 🌽🍅 \nThe Family Market is the perfect Saturday outing for the whole family! Explore unique local vendors\, pick up fresh\, farm-grown produce\, and treat yourself to delicious bites from a variety of food trucks. 🌞 \n \nLegacy Traditional Schools will be there\, ready to connect with families and share exciting information about our tuition-free\, public charter school options! 🎓✨ \n \nBring the whole family and enjoy: \n✔️ Tasty eats from local food vendors \n✔️ Shopping from amazing local businesses \n✔️ Fun kids’ activities and entertainment \n✔️ A chance to meet the Legacy team and learn more about our schools \n \nStop by our table to chat\, ask questions\, and discover all the amazing opportunities we offer. We can’t wait to meet you! 💙 \n \nRSVP now!
URL:https://legacytraditional.org/event/queen-creek-family-market-schnepf-farm-3/
LOCATION:Schnepf Farms\, 24810 South Rittenhouse Road\, Queen Creek\, AZ\, 85142\, United States
CATEGORIES:Arizona,Queen Creek
ATTACH;FMTTYPE=image/jpeg:https://legacytraditional.org/wp-content/uploads/2026/03/4590901e3238e9f9519bed729a44cf0c.jpg
END:VEVENT
BEGIN:VEVENT
DTSTART;TZID=America/Phoenix:20260410T173000
DTEND;TZID=America/Phoenix:20260410T183000
DTSTAMP:20260424T175236
CREATED:20260327T172551Z
LAST-MODIFIED:20260327T184006Z
UID:10000217-1775842200-1775845800@legacytraditional.org
SUMMARY:Legacy Programs Spotlight Night & Tours - Queen Creek
DESCRIPTION:Ready to put the spotlight on your child’s education? \n \nJoin us at Legacy Programs Spotlight Night to see learning in action on our campus. \n \nFamilies will have the opportunity to explore our well-rounded programs and electives for students in grades 3-8\, like Mozart Performing Arts\, Momentum Fitness and more to help nurture their interests. \n \nThe event will feature: \n\nInteractive program stations\nStudent work on display\nGuided tours with staff to answer questions\nA closer look at how creativity\, movement\, and innovation come to life through learning at Legacy\nRefreshments\n\n \nWe hope you’ll attend and let Legacy put the spotlight on your family! \n***NOTE: Legacy’s specialized program offerings vary by campus\, but include: \n\nMomentum Fitness\nMozart Performing Arts\nMasterpiece Art\nMastermind (STEM)\n\n\nNow Enrolling for 2026-27 School Year! \nWant to learn more about Legacy’s Public and Tuition-Free K-8 campus? \nClick HERE
URL:https://legacytraditional.org/event/legacy-programs-spotlight-night-tours-queen-creek/
LOCATION:Legacy Traditional School – Queen Creek\, 41800 North Barnes Parkway\, Queen Creek\, AZ\, 85140\, United States
CATEGORIES:Arizona,Queen Creek
ATTACH;FMTTYPE=image/jpeg:https://legacytraditional.org/wp-content/uploads/2026/03/eb-event-https3A2F2Fcdn.evbuc_.com2Fimages2F11808537882F28794094689912F12Foriginal.20260327-171445.jpg
END:VEVENT
BEGIN:VEVENT
DTSTART;TZID=America/Phoenix:20260324T173000
DTEND;TZID=America/Phoenix:20260324T183000
DTSTAMP:20260424T175236
CREATED:20260325T032623Z
LAST-MODIFIED:20260325T223640Z
UID:10000182-1774373400-1774377000@legacytraditional.org
SUMMARY:Bounce into Legacy - Queen Creek!
DESCRIPTION:Bounce into a night of family fun at Legacy Traditional School on Tuesday\, March 24 at 5:30 p.m. This event is for incoming kindergarten through 2nd-grade families planning to enroll for the 2026-27 school year. \nEnjoy FREE indoor bounce houses\, coloring station\, refreshments\, and receive enrollment help on the spot! \n\nMeet the Legacy admin team\n\n\nGuided campus tours\n\n\nPresentation about Legacy’s curriculum and offerings including; Back to Basics Math and ELA\, PE\, Spanish\, Art\, Music\, Library\, and more!\n\n\nDiscover after-school programs such as Legacy Kids Care\, clubs\, and free tutoring\n\n**Children must be accompanied by an adult** \nNow Enrolling for 2026-27 School Year! \nWant to learn more about Legacy’s Public and Tuition-Free K-8 campus? Click HERE \n\nClick HERE for Kindergarten info at Legacy Traditional Schools.\n\nJoin us at the event and bounce into your Legacy journey!
URL:https://legacytraditional.org/event/bounce-into-legacy-queen-creek-3/
LOCATION:Legacy Traditional School – Queen Creek\, 41800 North Barnes Parkway\, Queen Creek\, AZ\, 85140\, United States
CATEGORIES:Arizona,Queen Creek
ATTACH;FMTTYPE=image/jpeg:https://legacytraditional.org/wp-content/uploads/2026/03/eb-event-https3A2F2Fcdn.evbuc_.com2Fimages2F11791176642F28794094689912F12Foriginal.20260305-160923-2.jpg
END:VEVENT
BEGIN:VEVENT
DTSTART;TZID=America/Phoenix:20260324T173000
DTEND;TZID=America/Phoenix:20260324T183000
DTSTAMP:20260424T175236
CREATED:20260309T212642Z
LAST-MODIFIED:20260309T214055Z
UID:10000043-1774373400-1774377000@legacytraditional.org
SUMMARY:Bounce into Legacy - Queen Creek!
DESCRIPTION:Bounce into a night of family fun at Legacy Traditional School on Tuesday\, March 24 at 5:30 p.m. This event is for incoming kindergarten through 2nd-grade families planning to enroll for the 2026-27 school year. \nEnjoy FREE indoor bounce houses\, coloring station\, refreshments\, and receive enrollment help on the spot! \n\nMeet the Legacy admin team\n\n\nGuided campus tours\n\n\nPresentation about Legacy’s curriculum and offerings including; Back to Basics Math and ELA\, PE\, Spanish\, Art\, Music\, Library\, and more!\n\n\nDiscover after-school programs such as Legacy Kids Care\, clubs\, and free tutoring\n\n**Children must be accompanied by an adult** \nNow Enrolling for 2026-27 School Year! \nWant to learn more about Legacy’s Public and Tuition-Free K-8 campus? Click HERE \n\nClick HERE for Kindergarten info at Legacy Traditional Schools.\n\nJoin us at the event and bounce into your Legacy journey!
URL:https://legacytraditional.org/event/bounce-into-legacy-queen-creek/
LOCATION:Legacy Traditional School – Queen Creek\, 41800 North Barnes Parkway\, Queen Creek\, AZ\, 85140\, United States
CATEGORIES:Arizona,Queen Creek
ATTACH;FMTTYPE=image/jpeg:https://legacytraditional.org/wp-content/uploads/2026/03/eb-event-https3A2F2Fcdn.evbuc_.com2Fimages2F11791176642F28794094689912F12Foriginal.20260305-160923.jpg
END:VEVENT
BEGIN:VEVENT
DTSTART;TZID=America/Phoenix:20260324T170000
DTEND;TZID=America/Phoenix:20260324T180000
DTSTAMP:20260424T175236
CREATED:20260309T212613Z
LAST-MODIFIED:20260309T214302Z
UID:10000026-1774371600-1774375200@legacytraditional.org
SUMMARY:Pre-K Open House at Legacy - Queen Creek
DESCRIPTION:Legacy Traditional Schools invites you to attend our Spring Pre-K Open House!! \n✏️ Join us to meet Legacy staff\, take a tour\, learn about the Pre-K enrollment process and discover how our hands-on learning and play-based activities help prepare students for Kindergarten. \nEnrollment spaces are still available for the 2025-26 school year and applications for 2026-27 will open SOON! Our Pre-K spots tend to fill quickly\, so this is a great time to get started. \n \nENROLL TODAY at https://legacytraditional.org/pre-kindergarten \n \nLegacy Pre-K spots are limited and offered on a first-come\, first-serve basis . . . sign up on the interest list today!!! \n \n*NOTE: The Pre-K program is open to children who turn four years old by August 31.
URL:https://legacytraditional.org/event/pre-k-open-house-at-legacy-queen-creek/
LOCATION:Legacy Traditional School – Casa Grande\, 1274 East O'Neil Drive\, Casa Grande\, AZ\, 85122\, United States
CATEGORIES:Arizona,Queen Creek
ATTACH;FMTTYPE=image/jpeg:https://legacytraditional.org/wp-content/uploads/2026/03/eb-event-https3A2F2Fcdn.evbuc_.com2Fimages2F9572689732F1919452437692F12Foriginal.20250210-190923-8.jpg
END:VEVENT
BEGIN:VEVENT
DTSTART;TZID=America/Phoenix:20260321T090000
DTEND;TZID=America/Phoenix:20260321T140000
DTSTAMP:20260424T175236
CREATED:20260321T232544Z
LAST-MODIFIED:20260323T172906Z
UID:10000111-1774083600-1774101600@legacytraditional.org
SUMMARY:Queen Creek Family Market - Schnepf Farm
DESCRIPTION:Join Legacy at the Queen Creek Family Market at Schnepf Farms 🌽🍅 \nThe Family Market is the perfect Saturday outing for the whole family! Explore unique local vendors\, pick up fresh\, farm-grown produce\, and treat yourself to delicious bites from a variety of food trucks. 🌞 \n \nLegacy Traditional Schools will be there\, ready to connect with families and share exciting information about our tuition-free\, public charter school options! 🎓✨ \n \nBring the whole family and enjoy: \n✔️ Tasty eats from local food vendors \n✔️ Shopping from amazing local businesses \n✔️ Fun kids’ activities and entertainment \n✔️ A chance to meet the Legacy team and learn more about our schools \n \nStop by our table to chat\, ask questions\, and discover all the amazing opportunities we offer. We can’t wait to meet you! 💙 \n \nRSVP now!
URL:https://legacytraditional.org/event/queen-creek-family-market-schnepf-farm-10/
LOCATION:Schnepf Farms\, 24810 South Rittenhouse Road\, Queen Creek\, AZ\, 85142\, United States
CATEGORIES:Arizona,Queen Creek
ATTACH;FMTTYPE=image/jpeg:https://legacytraditional.org/wp-content/uploads/2026/03/eb-event-https3A2F2Fcdn.evbuc_.com2Fimages2F11788497832F20202648380232F12Foriginal.20260302-231308-3.jpg
END:VEVENT
BEGIN:VEVENT
DTSTART;TZID=America/Phoenix:20260321T090000
DTEND;TZID=America/Phoenix:20260321T140000
DTSTAMP:20260424T175236
CREATED:20260321T222550Z
LAST-MODIFIED:20260323T172918Z
UID:10000110-1774083600-1774101600@legacytraditional.org
SUMMARY:Queen Creek Family Market - Schnepf Farm
DESCRIPTION:Join Legacy at the Queen Creek Family Market at Schnepf Farms 🌽🍅 \nThe Family Market is the perfect Saturday outing for the whole family! Explore unique local vendors\, pick up fresh\, farm-grown produce\, and treat yourself to delicious bites from a variety of food trucks. 🌞 \n \nLegacy Traditional Schools will be there\, ready to connect with families and share exciting information about our tuition-free\, public charter school options! 🎓✨ \n \nBring the whole family and enjoy: \n✔️ Tasty eats from local food vendors \n✔️ Shopping from amazing local businesses \n✔️ Fun kids’ activities and entertainment \n✔️ A chance to meet the Legacy team and learn more about our schools \n \nStop by our table to chat\, ask questions\, and discover all the amazing opportunities we offer. We can’t wait to meet you! 💙 \n \nRSVP now!
URL:https://legacytraditional.org/event/queen-creek-family-market-schnepf-farm-9/
LOCATION:Schnepf Farms\, 24810 South Rittenhouse Road\, Queen Creek\, AZ\, 85142\, United States
CATEGORIES:Arizona,Queen Creek
ATTACH;FMTTYPE=image/jpeg:https://legacytraditional.org/wp-content/uploads/2026/03/eb-event-https3A2F2Fcdn.evbuc_.com2Fimages2F11788497832F20202648380232F12Foriginal.20260302-231308-2.jpg
END:VEVENT
BEGIN:VEVENT
DTSTART;TZID=America/Phoenix:20260321T090000
DTEND;TZID=America/Phoenix:20260321T140000
DTSTAMP:20260424T175236
CREATED:20260321T212535Z
LAST-MODIFIED:20260323T172927Z
UID:10000109-1774083600-1774101600@legacytraditional.org
SUMMARY:Queen Creek Family Market - Schnepf Farm
DESCRIPTION:Join Legacy at the Queen Creek Family Market at Schnepf Farms 🌽🍅 \nThe Family Market is the perfect Saturday outing for the whole family! Explore unique local vendors\, pick up fresh\, farm-grown produce\, and treat yourself to delicious bites from a variety of food trucks. 🌞 \n \nLegacy Traditional Schools will be there\, ready to connect with families and share exciting information about our tuition-free\, public charter school options! 🎓✨ \n \nBring the whole family and enjoy: \n✔️ Tasty eats from local food vendors \n✔️ Shopping from amazing local businesses \n✔️ Fun kids’ activities and entertainment \n✔️ A chance to meet the Legacy team and learn more about our schools \n \nStop by our table to chat\, ask questions\, and discover all the amazing opportunities we offer. We can’t wait to meet you! 💙 \n \nRSVP now!
URL:https://legacytraditional.org/event/queen-creek-family-market-schnepf-farm-8/
LOCATION:Schnepf Farms\, 24810 South Rittenhouse Road\, Queen Creek\, AZ\, 85142\, United States
CATEGORIES:Arizona,Queen Creek
ATTACH;FMTTYPE=image/jpeg:https://legacytraditional.org/wp-content/uploads/2026/03/eb-event-https3A2F2Fcdn.evbuc_.com2Fimages2F11788497832F20202648380232F12Foriginal.20260302-231308-1.jpg
END:VEVENT
BEGIN:VEVENT
DTSTART;TZID=America/Phoenix:20260321T090000
DTEND;TZID=America/Phoenix:20260321T140000
DTSTAMP:20260424T175236
CREATED:20260309T212557Z
LAST-MODIFIED:20260309T214421Z
UID:10000017-1774083600-1774101600@legacytraditional.org
SUMMARY:Queen Creek Family Market - Schnepf Farm
DESCRIPTION:Join Legacy at the Queen Creek Family Market at Schnepf Farms 🌽🍅 \nThe Family Market is the perfect Saturday outing for the whole family! Explore unique local vendors\, pick up fresh\, farm-grown produce\, and treat yourself to delicious bites from a variety of food trucks. 🌞 \n \nLegacy Traditional Schools will be there\, ready to connect with families and share exciting information about our tuition-free\, public charter school options! 🎓✨ \n \nBring the whole family and enjoy: \n✔️ Tasty eats from local food vendors \n✔️ Shopping from amazing local businesses \n✔️ Fun kids’ activities and entertainment \n✔️ A chance to meet the Legacy team and learn more about our schools \n \nStop by our table to chat\, ask questions\, and discover all the amazing opportunities we offer. We can’t wait to meet you! 💙 \n \nRSVP now!
URL:https://legacytraditional.org/event/queen-creek-family-market-schnepf-farm-5/
LOCATION:Schnepf Farms\, 24810 South Rittenhouse Road\, Queen Creek\, AZ\, 85142\, United States
CATEGORIES:Arizona,Queen Creek
ATTACH;FMTTYPE=image/jpeg:https://legacytraditional.org/wp-content/uploads/2026/03/eb-event-https3A2F2Fcdn.evbuc_.com2Fimages2F11788497832F20202648380232F12Foriginal.20260302-231308.jpg
END:VEVENT
BEGIN:VEVENT
DTSTART;TZID=America/Phoenix:20260321T090000
DTEND;TZID=America/Phoenix:20260321T140000
DTSTAMP:20260424T175236
CREATED:20260302T230104Z
LAST-MODIFIED:20260321T201039Z
UID:10000013-1774083600-1774101600@legacytraditional.org
SUMMARY:Queen Creek Family Market - Schnepf Farm
DESCRIPTION:Join Legacy at the family market on Schnepf Farm!\n\n\nJoin Legacy at the Queen Creek Family Market at Schnepf Farms 🌽🍅 \nThe Family Market is the perfect Saturday outing for the whole family! Explore unique local vendors\, pick up fresh\, farm-grown produce\, and treat yourself to delicious bites from a variety of food trucks. 🌞 \n \nLegacy Traditional Schools will be there\, ready to connect with families and share exciting information about our tuition-free\, public charter school options! 🎓✨ \n \nBring the whole family and enjoy: \n✔️ Tasty eats from local food vendors \n✔️ Shopping from amazing local businesses \n✔️ Fun kids’ activities and entertainment \n✔️ A chance to meet the Legacy team and learn more about our schools \n \nStop by our table to chat\, ask questions\, and discover all the amazing opportunities we offer. We can’t wait to meet you! 💙 \n \nRSVP now!
URL:https://legacytraditional.org/event/queen-creek-family-market-schnepf-farm-2/
LOCATION:AZ
CATEGORIES:Arizona,Queen Creek
ATTACH;FMTTYPE=image/jpeg:https://legacytraditional.org/wp-content/uploads/2026/03/d4dcd71a567ae541c74c0b6ef9613425.jpg
END:VEVENT
BEGIN:VEVENT
DTSTART;TZID=America/Phoenix:20260307T090000
DTEND;TZID=America/Phoenix:20260307T140000
DTSTAMP:20260424T175236
CREATED:20260224T220749Z
LAST-MODIFIED:20260303T192534Z
UID:10000011-1772874000-1772892000@legacytraditional.org
SUMMARY:Queen Creek Family Market - Schnepf Farm
DESCRIPTION:Join Legacy at the family market on Schnepf Farm!\n\n\nJoin Legacy at the Queen Creek Family Market at Schnepf Farms 🌽🍅 \nThe Family Market is the perfect Saturday outing for the whole family! Explore unique local vendors\, pick up fresh\, farm-grown produce\, and treat yourself to delicious bites from a variety of food trucks. 🌞 \n \nLegacy Traditional Schools will be there\, ready to connect with families and share exciting information about our tuition-free\, public charter school options! 🎓✨ \n \nBring the whole family and enjoy: \n✔️ Tasty eats from local food vendors \n✔️ Shopping from amazing local businesses \n✔️ Fun kids’ activities and entertainment \n✔️ A chance to meet the Legacy team and learn more about our schools \n \nStop by our table to chat\, ask questions\, and discover all the amazing opportunities we offer. We can’t wait to meet you! 💙 \n \nRSVP now!
URL:https://legacytraditional.org/event/queen-creek-family-market-schnepf-farm/
LOCATION:AZ
CATEGORIES:Arizona,Queen Creek
ATTACH;FMTTYPE=image/jpeg:https://legacytraditional.org/wp-content/uploads/2026/03/327464b23901a2d12c0d90d8aed3e61f.jpg
END:VEVENT
END:VCALENDAR