BEGIN:VCALENDAR
VERSION:2.0
PRODID:-//Legacy Traditional Schools - ECPv6.15.17.1//NONSGML v1.0//EN
CALSCALE:GREGORIAN
METHOD:PUBLISH
X-ORIGINAL-URL:https://legacytraditional.org
X-WR-CALDESC:Events for Legacy Traditional Schools
REFRESH-INTERVAL;VALUE=DURATION:PT1H
X-Robots-Tag:noindex
X-PUBLISHED-TTL:PT1H
BEGIN:VTIMEZONE
TZID:America/Phoenix
BEGIN:STANDARD
TZOFFSETFROM:-0700
TZOFFSETTO:-0700
TZNAME:MST
DTSTART:20250101T000000
END:STANDARD
END:VTIMEZONE
BEGIN:VEVENT
DTSTART;TZID=America/Phoenix:20260509T180000
DTEND;TZID=America/Phoenix:20260509T200000
DTSTAMP:20260425T084425
CREATED:20260416T042619Z
LAST-MODIFIED:20260422T201628Z
UID:10000429-1778349600-1778356800@legacytraditional.org
SUMMARY:✨Legacy - Nevada Employee End of Year Celebration! ✨
DESCRIPTION:🎉Legacy Nevada employees . . . 🎉 \n⭐ You and a guest are invited to attend the 2026 Legacy – Nevada\,“Bright Moments & Big Wins” Employee End of Year Celebration & Awards Event! \n⭐During this celebratory time together\, we will announce the Nevada Teachers and Staff of the Year from each campus and recognize the honorees of our Legacy Milestone (Years of Service) Award. \n⭐The evening will be filled with joy and appreciation as we recognize the incredible work of our admin\, teachers\, and staff\, while celebrating the year’s milestones and achievements across our Nevada schools. \n \nEvent Highlights: \n\n🍽️ Complimentary dinner for you and a guest\n🎁Raffle Door Prizes\n📸Photo Booth Fun\n🎶DJ & Music\n\n\n👚 👗ATTIRE: 👔👕 \n\nBusiness Dress Casual (no jeans)\n\n\n***Please RSVP by Wednesday\, April 29 EOD!*** \nWe can’t wait to celebrate our BIG WINS from the 2025-26 school year with you!
URL:https://legacytraditional.org/event/%e2%9c%a8legacy-nevada-employee-end-of-year-celebration-%e2%9c%a8/
LOCATION:Factory of Dreams Hall Las Vegas\, 6360 S Pecos Road\, Las Vegas\, NV\, 89120
CATEGORIES:Nevada
ATTACH;FMTTYPE=image/jpeg:https://legacytraditional.org/wp-content/uploads/2026/04/eb-event-https3A2F2Fcdn.evbuc_.com2Fimages2F10211786332F1919452437692F12Foriginal.20250501-174646.jpg
END:VEVENT
END:VCALENDAR