BEGIN:VCALENDAR
VERSION:2.0
PRODID:-//Legacy Traditional Schools - ECPv6.15.17.1//NONSGML v1.0//EN
CALSCALE:GREGORIAN
METHOD:PUBLISH
X-ORIGINAL-URL:https://legacytraditional.org
X-WR-CALDESC:Events for Legacy Traditional Schools
REFRESH-INTERVAL;VALUE=DURATION:PT1H
X-Robots-Tag:noindex
X-PUBLISHED-TTL:PT1H
BEGIN:VTIMEZONE
TZID:America/Phoenix
BEGIN:STANDARD
TZOFFSETFROM:-0700
TZOFFSETTO:-0700
TZNAME:MST
DTSTART:20250101T000000
END:STANDARD
END:VTIMEZONE
BEGIN:VTIMEZONE
TZID:America/Los_Angeles
BEGIN:DAYLIGHT
TZOFFSETFROM:-0800
TZOFFSETTO:-0700
TZNAME:PDT
DTSTART:20250309T100000
END:DAYLIGHT
BEGIN:STANDARD
TZOFFSETFROM:-0700
TZOFFSETTO:-0800
TZNAME:PST
DTSTART:20251102T090000
END:STANDARD
BEGIN:DAYLIGHT
TZOFFSETFROM:-0800
TZOFFSETTO:-0700
TZNAME:PDT
DTSTART:20260308T100000
END:DAYLIGHT
BEGIN:STANDARD
TZOFFSETFROM:-0700
TZOFFSETTO:-0800
TZNAME:PST
DTSTART:20261101T090000
END:STANDARD
BEGIN:DAYLIGHT
TZOFFSETFROM:-0800
TZOFFSETTO:-0700
TZNAME:PDT
DTSTART:20270314T100000
END:DAYLIGHT
BEGIN:STANDARD
TZOFFSETFROM:-0700
TZOFFSETTO:-0800
TZNAME:PST
DTSTART:20271107T090000
END:STANDARD
END:VTIMEZONE
BEGIN:VEVENT
DTSTART;TZID=America/Phoenix:20260423T180000
DTEND;TZID=America/Phoenix:20260423T190000
DTSTAMP:20260425T054305
CREATED:20260407T122613Z
LAST-MODIFIED:20260422T201616Z
UID:10000296-1776967200-1776970800@legacytraditional.org
SUMMARY:Legacy *Virtual* Info Night for Kinder Families
DESCRIPTION:Ready to discover what a day in the life of a Legacy Kinder student looks like? \nJoin us for the Legacy Virtual Kinder Info Night!! This special event is specifically for interested and new Kindergarten families! \n***ZOOM DETAILS*** will be shared 24 hours before the event \n \nABOUT . . . \nDuring this engaging session\, our Legacy Academics team will guide families through: \n🎓💻 Legacy’s well-rounded Kinder curriculum is designed to set students up for success in every subject \n🎨🎶🏃 Specials like Art\, Music\, and PE to nurture creativity and active lifestyles \n⏰ Before and after school care options that support working families \n👕📚 School policies\, uniforms\, and more! \n❓💬 Live Q&A – Drop your questions in the chat and get real-time answers from our enrollment team! \n📺Can’t wait for the event . . .watch the Legacy Kindergarten FAQ video to get answers to frequently asked questions. \nWe look forward to connecting with you and sharing more about the Legacy Kinder experience! \n🔗 Visit https://legacytraditional.org/kindergarten for more information.
URL:https://legacytraditional.org/event/legacy-virtual-info-night-for-kinder-families-4/
CATEGORIES:Arizona,Nevada,Texas
ATTACH;FMTTYPE=image/jpeg:https://legacytraditional.org/wp-content/uploads/2026/04/eb-event-https3A2F2Fcdn.evbuc_.com2Fimages2F10043982132F1919452437692F12Foriginal.20250408-233026.jpg
END:VEVENT
BEGIN:VEVENT
DTSTART;TZID=America/Phoenix:20260422T173000
DTEND;TZID=America/Phoenix:20260422T183000
DTSTAMP:20260425T054305
CREATED:20260407T162619Z
LAST-MODIFIED:20260422T201552Z
UID:10000300-1776879000-1776882600@legacytraditional.org
SUMMARY:Spring into Legacy - Cadence
DESCRIPTION:Thinking about Legacy for your child? \n \nWe’d love for you to join us on April 22 for Spring into Legacy\, an evening event with tours and a presentation. \n \nThis event for interested families in grades K – 8 will give families a close-up look at the Legacy student experience and our well-rounded education. \nDuring the event\, families will: \n\nListen to a presentation overview about our campus\, curriculum\, programs\, and more\, like before- and after-school care \nMeet and Greet Legacy admin\nTake a guided campus tour and ask questions\nEnjoy light refreshments\n\n \nWe hope you’ll “spring” into the possibilities waiting for your family at Legacy Traditional Schools! \nNow Enrolling for 2026-27 School Year! \nWant to learn more about Legacy’s Public and Tuition-Free K-8 campus? \nClick HERE \n \n————————- \n***NOTE: Legacy’s specialized program offerings vary by campus\, but include: \n\nMomentum Fitness\nMozart Performing Arts\nMasterpiece Art\nMastermind (STEM)
URL:https://legacytraditional.org/event/spring-into-legacy-cadence/
LOCATION:Legacy Traditional School – Cadence (Henderson)\, 325 Inflection Street\, Henderson\, NV\, 89011\, United States
CATEGORIES:Cadence,Nevada
ATTACH;FMTTYPE=image/jpeg:https://legacytraditional.org/wp-content/uploads/2026/04/eb-event-https3A2F2Fcdn.evbuc_.com2Fimages2F11816071282F28794094689912F12Foriginal.20260407-161330.jpg
END:VEVENT
BEGIN:VEVENT
DTSTART;TZID=America/Phoenix:20260414T163000
DTEND;TZID=America/Phoenix:20260414T190000
DTSTAMP:20260425T054305
CREATED:20260331T092607Z
LAST-MODIFIED:20260423T214258Z
UID:10000249-1776184200-1776193200@legacytraditional.org
SUMMARY:Legacy Traditional Schools - Nevada | Hiring Event at Southwest Vegas
DESCRIPTION:Join us for our Educator Hiring Event focused on Certified Teachers\, Special Education Teachers\, Speech Language Pathologists\, and Psychologists.\nLegacy is Hiring Now for the 2026–2027 school year! \nApply Today . . . to secure your interview opportunity!\nSpots are limited! \n\nLegacy Traditional School – Southwest\, NV\n📅 April 14 | ⏰ 4:30 PM – 7:00 PM\n\n  \n🔹 Now Hiring for: \n\nTeachers\nSpecial Education Teachers\nSpeech Language Pathologists (SLPs)\nSchool Psychologists\n\n  \n🔹 What to Expect: \nApply to connect with a recruiter. Qualified candidates will be scheduled to interview with a principal for the 2026–2027 school year. \n  \n***SUBMIT APPLICATIONS HERE -> Legacy – Cadence Hiring Event!***
URL:https://legacytraditional.org/event/legacy-traditional-schools-nevada-hiring-event-at-southwest-vegas/
LOCATION:Legacy Traditional School – Southwest Las Vegas\, 7077 West Wigwam Avenue\, Las Vegas\, NV\, 89113\, United States
CATEGORIES:Nevada,SW Las Vegas
ATTACH;FMTTYPE=image/jpeg:https://legacytraditional.org/wp-content/uploads/2026/03/eb-event-https3A2F2Fcdn.evbuc_.com2Fimages2F11810733922F1919452437692F12Foriginal.20260331-084921.jpg
END:VEVENT
BEGIN:VEVENT
DTSTART;TZID=America/Phoenix:20260413T163000
DTEND;TZID=America/Phoenix:20260413T190000
DTSTAMP:20260425T054305
CREATED:20260331T092605Z
LAST-MODIFIED:20260423T214236Z
UID:10000248-1776097800-1776106800@legacytraditional.org
SUMMARY:Legacy Traditional Schools - Nevada | Hiring Event at Cadence (Henderson)
DESCRIPTION:Join us for our Educator Hiring Event focused on Certified Teachers\, Special Education Teachers\, Speech Language Pathologists\, and Psychologists.\nLegacy is Hiring Now for the 2026–2027 school year! \nApply Today . . . to secure your interview opportunity!\nSpots are limited! \n\nLegacy Traditional School – Cadence\, NV\n📅 April 13 | ⏰ 4:30 PM – 7:00 PM\n\n  \n🔹 Now Hiring for: \n\nTeachers\nSpecial Education Teachers\nSpeech Language Pathologists (SLPs)\nSchool Psychologists\n\n  \n🔹 What to Expect: \nApply to connect with a recruiter. Qualified candidates will be scheduled to interview with a principal for the 2026–2027 school year. \n  \n***SUBMIT APPLICATIONS HERE -> Legacy – Cadence Hiring Event!***
URL:https://legacytraditional.org/event/legacy-traditional-schools-nevada-hiring-event-at-cadence-henderson/
LOCATION:Legacy Traditional School – Cadence (Henderson)\, 325 Inflection Street\, Henderson\, NV\, 89011\, United States
CATEGORIES:Cadence,Nevada
ATTACH;FMTTYPE=image/jpeg:https://legacytraditional.org/wp-content/uploads/2026/03/eb-event-https3A2F2Fcdn.evbuc_.com2Fimages2F11810723092F1919452437692F12Foriginal.20260331-082929.jpg
END:VEVENT
BEGIN:VEVENT
DTSTART;TZID=America/Phoenix:20260410T173000
DTEND;TZID=America/Phoenix:20260410T183000
DTSTAMP:20260425T054305
CREATED:20260327T172520Z
LAST-MODIFIED:20260327T184243Z
UID:10000200-1775842200-1775845800@legacytraditional.org
SUMMARY:Legacy Programs Spotlight Night & Tours - Cadence!
DESCRIPTION:Ready to put the spotlight on your child’s education? \n \nJoin us at Legacy Programs Spotlight Night to see learning in action on our campus. \n \nFamilies will have the opportunity to explore our well-rounded programs and electives for students in grades 3-8\, like Mozart Performing Arts\, Momentum Fitness and more to help nurture their interests. \n \nThe event will feature: \n\nInteractive program stations\nStudent work on display\nGuided tours with staff to answer questions\nA closer look at how creativity\, movement\, and innovation come to life through learning at Legacy\nRefreshments\n\n \nWe hope you’ll attend and let Legacy put the spotlight on your family! \n***NOTE: Legacy’s specialized program offerings vary by campus\, but include: \n\nMomentum Fitness\nMozart Performing Arts\nMasterpiece Art\nMastermind (STEM)\n\n\nNow Enrolling for 2026-27 School Year! \nWant to learn more about Legacy’s Public and Tuition-Free K-8 campus? \nClick HERE
URL:https://legacytraditional.org/event/legacy-programs-spotlight-night-tours-cadence/
LOCATION:Legacy Traditional School – Cadence (Henderson)\, 325 Inflection Street\, Henderson\, NV\, 89011\, United States
CATEGORIES:Cadence,Nevada
ATTACH;FMTTYPE=image/jpeg:https://legacytraditional.org/wp-content/uploads/2026/03/eb-event-https3A2F2Fcdn.evbuc_.com2Fimages2F11808534812F28794094689912F12Foriginal.20260327-171115.jpg
END:VEVENT
BEGIN:VEVENT
DTSTART;TZID=America/Phoenix:20260324T173000
DTEND;TZID=America/Phoenix:20260324T183000
DTSTAMP:20260425T054305
CREATED:20260325T032630Z
LAST-MODIFIED:20260325T223609Z
UID:10000186-1774373400-1774377000@legacytraditional.org
SUMMARY:Bounce into Legacy - Cadence!
DESCRIPTION:Bounce into a night of family fun at Legacy Traditional School on Tuesday\, March 24 at 5:30 p.m. This event is for incoming kindergarten through 2nd-grade families planning to enroll for the 2026-27 school year. \nEnjoy FREE indoor bounce houses\, coloring station\, refreshments\, and receive enrollment help on the spot! \n\nMeet the Legacy admin team\n\n\nGuided campus tours\n\n\nPresentation about Legacy’s curriculum and offerings including; Back to Basics Math and ELA\, PE\, Spanish\, Art\, Music\, Library\, and more!\n\n\nDiscover after-school programs such as Legacy Kids Care\, clubs\, and free tutoring\n\n**Children must be accompanied by an adult** \nNow Enrolling for 2026-27 School Year! \nWant to learn more about Legacy’s Public and Tuition-Free K-8 campus? Click HERE \n\nClick HERE for Kindergarten info at Legacy Traditional Schools.\n\nJoin us at the event and bounce into your Legacy journey!
URL:https://legacytraditional.org/event/bounce-into-legacy-cadence-3/
LOCATION:Legacy Traditional School – Cadence (Henderson)\, 325 Inflection Street\, Henderson\, NV\, 89011\, United States
CATEGORIES:Cadence,Nevada
ATTACH;FMTTYPE=image/jpeg:https://legacytraditional.org/wp-content/uploads/2026/03/eb-event-https3A2F2Fcdn.evbuc_.com2Fimages2F11791180282F28794094689912F12Foriginal.20260305-161222-2.jpg
END:VEVENT
BEGIN:VEVENT
DTSTART;TZID=America/Phoenix:20260324T173000
DTEND;TZID=America/Phoenix:20260324T183000
DTSTAMP:20260425T054305
CREATED:20260309T212649Z
LAST-MODIFIED:20260309T214015Z
UID:10000047-1774373400-1774377000@legacytraditional.org
SUMMARY:Bounce into Legacy - Cadence!
DESCRIPTION:Bounce into a night of family fun at Legacy Traditional School on Tuesday\, March 24 at 5:30 p.m. This event is for incoming kindergarten through 2nd-grade families planning to enroll for the 2026-27 school year. \nEnjoy FREE indoor bounce houses\, coloring station\, refreshments\, and receive enrollment help on the spot! \n\nMeet the Legacy admin team\n\n\nGuided campus tours\n\n\nPresentation about Legacy’s curriculum and offerings including; Back to Basics Math and ELA\, PE\, Spanish\, Art\, Music\, Library\, and more!\n\n\nDiscover after-school programs such as Legacy Kids Care\, clubs\, and free tutoring\n\n**Children must be accompanied by an adult** \nNow Enrolling for 2026-27 School Year! \nWant to learn more about Legacy’s Public and Tuition-Free K-8 campus? Click HERE \n\nClick HERE for Kindergarten info at Legacy Traditional Schools.\n\nJoin us at the event and bounce into your Legacy journey!
URL:https://legacytraditional.org/event/bounce-into-legacy-cadence/
LOCATION:Legacy Traditional School – Cadence (Henderson)\, 325 Inflection Street\, Henderson\, NV\, 89011\, United States
CATEGORIES:Cadence,Nevada
ATTACH;FMTTYPE=image/jpeg:https://legacytraditional.org/wp-content/uploads/2026/03/eb-event-https3A2F2Fcdn.evbuc_.com2Fimages2F11791180282F28794094689912F12Foriginal.20260305-161222.jpg
END:VEVENT
BEGIN:VEVENT
DTSTART;TZID=America/Los_Angeles:20260225T090000
DTEND;TZID=America/Los_Angeles:20260225T100000
DTSTAMP:20260425T054305
CREATED:20260224T220737Z
LAST-MODIFIED:20260303T174746Z
UID:10000004-1772010000-1772013600@legacytraditional.org
SUMMARY:Teddy Bears\, Treats & Tours - Cadence
DESCRIPTION:We’re excited to invite kindergarten families to a ‘bear-iffic’ event at Legacy!\n\n\n🧸 Teddy Bears\, Treats & Tours at Legacy Traditional Schools 🧸 \nJoin us for Teddy Bears\, Treats & Tours\, where future Kinder students can bring along their favorite teddy bear or stuffed animal for a “bear-iffic” campus tour. \nDuring the event: \n\nEach child and their cuddly companion will receive a special “School Tour Badge” sticker to wear while exploring campus\nA meet-and-greet with our Legacy Principal\, plus sweet treats to enjoy\nTake a guided campus tour\, including a visit to a kindergarten classroom\nLearn more about our Kinder curriculum\, programs\, and exciting opportunities\n\nBonus giveaway: Every attending family will be entered into a drawing to win a Legacy Teddy Bear to take home! \nWe can’t wait to welcome you\, your child\, and their teddy bear to the Legacy family. \nIt’s going to be a “beary” fun day!
URL:https://legacytraditional.org/event/teddy-bears-treats-tours-cadence/
LOCATION:Legacy Traditional School – Cadence (Henderson)\, 325 Inflection Street\, Henderson\, NV\, 89011\, United States
CATEGORIES:Cadence,Nevada
ATTACH;FMTTYPE=image/jpeg:https://legacytraditional.org/wp-content/uploads/2026/02/78a247b187340afb8f94dfc3943e81b7.jpg
END:VEVENT
END:VCALENDAR