BEGIN:VCALENDAR
VERSION:2.0
PRODID:-//Legacy Traditional Schools - ECPv6.15.17.1//NONSGML v1.0//EN
CALSCALE:GREGORIAN
METHOD:PUBLISH
X-WR-CALNAME:Legacy Traditional Schools
X-ORIGINAL-URL:https://legacytraditional.org
X-WR-CALDESC:Events for Legacy Traditional Schools
REFRESH-INTERVAL;VALUE=DURATION:PT1H
X-Robots-Tag:noindex
X-PUBLISHED-TTL:PT1H
BEGIN:VTIMEZONE
TZID:America/Phoenix
BEGIN:STANDARD
TZOFFSETFROM:-0700
TZOFFSETTO:-0700
TZNAME:MST
DTSTART:20250101T000000
END:STANDARD
END:VTIMEZONE
BEGIN:VTIMEZONE
TZID:America/New_York
BEGIN:DAYLIGHT
TZOFFSETFROM:-0500
TZOFFSETTO:-0400
TZNAME:EDT
DTSTART:20250309T070000
END:DAYLIGHT
BEGIN:STANDARD
TZOFFSETFROM:-0400
TZOFFSETTO:-0500
TZNAME:EST
DTSTART:20251102T060000
END:STANDARD
BEGIN:DAYLIGHT
TZOFFSETFROM:-0500
TZOFFSETTO:-0400
TZNAME:EDT
DTSTART:20260308T070000
END:DAYLIGHT
BEGIN:STANDARD
TZOFFSETFROM:-0400
TZOFFSETTO:-0500
TZNAME:EST
DTSTART:20261101T060000
END:STANDARD
BEGIN:DAYLIGHT
TZOFFSETFROM:-0500
TZOFFSETTO:-0400
TZNAME:EDT
DTSTART:20270314T070000
END:DAYLIGHT
BEGIN:STANDARD
TZOFFSETFROM:-0400
TZOFFSETTO:-0500
TZNAME:EST
DTSTART:20271107T060000
END:STANDARD
END:VTIMEZONE
BEGIN:VTIMEZONE
TZID:America/Los_Angeles
BEGIN:DAYLIGHT
TZOFFSETFROM:-0800
TZOFFSETTO:-0700
TZNAME:PDT
DTSTART:20250309T100000
END:DAYLIGHT
BEGIN:STANDARD
TZOFFSETFROM:-0700
TZOFFSETTO:-0800
TZNAME:PST
DTSTART:20251102T090000
END:STANDARD
BEGIN:DAYLIGHT
TZOFFSETFROM:-0800
TZOFFSETTO:-0700
TZNAME:PDT
DTSTART:20260308T100000
END:DAYLIGHT
BEGIN:STANDARD
TZOFFSETFROM:-0700
TZOFFSETTO:-0800
TZNAME:PST
DTSTART:20261101T090000
END:STANDARD
BEGIN:DAYLIGHT
TZOFFSETFROM:-0800
TZOFFSETTO:-0700
TZNAME:PDT
DTSTART:20270314T100000
END:DAYLIGHT
BEGIN:STANDARD
TZOFFSETFROM:-0700
TZOFFSETTO:-0800
TZNAME:PST
DTSTART:20271107T090000
END:STANDARD
END:VTIMEZONE
BEGIN:VEVENT
DTSTART;TZID=America/Phoenix:20260312T180000
DTEND;TZID=America/Phoenix:20260312T190000
DTSTAMP:20260421T194500
CREATED:20260309T212556Z
LAST-MODIFIED:20260309T214434Z
UID:10000016-1773338400-1773342000@legacytraditional.org
SUMMARY:Legacy Traditional Schools: Parent Info Night - Columbia\, SC
DESCRIPTION:★★ Parent Info Night for Legacy Traditional School – Columbia!★★ \n \n✏️ Join us for the Columbia Parent Info Night to meet our founding principal\, Dr. Prochak\, and learn about: \n📚 Legacy’s well-rounded curriculum – including music\, physical education\, and more \n🏫 How enrollment works\, what to expect with uniforms\, and the LTS school policies \n🎒Details on before- and after-school care programs \n🏗️ A sneak peek at our 87\,000-square-foot campus (currently under construction )\, set to open in the 2026-27 school year. \n❓We’re here to help answer all your questions and guide you every step of the way! \n \n🌟 Exciting 2026 News! 🌟Legacy Traditional Schools is thrilled to announce that we’re coming to South Carolina in Fall 2026! Our brand-new Columbia campus will be the first in South Carolina\, offering an enriching educational experience for students in Kindergarten through 8th grade. \n \n💻 Want to learn more? \n\nTake a virtual tour\nJoin the interest list\nDiscover Legacy’s expansion into South Carolina by visiting\n🔗https://legacytraditional.org/southcarolina/\n\n \nWe look forward to meeting your family! \nDon’t miss out on this chance to connect with us and discover what makes Legacy special.
URL:https://legacytraditional.org/event/legacy-traditional-schools-parent-info-night-columbia-sc-2/
LOCATION:Hilton Garden Inn Columbia/Northeast\, 8910 Farrow Road\, Columbia\, SC\, 29203\, United States
CATEGORIES:Columbia,South Carolina
ATTACH;FMTTYPE=image/jpeg:https://legacytraditional.org/wp-content/uploads/2026/03/eb-event-https3A2F2Fcdn.evbuc_.com2Fimages2F11786234232F20202648380232F12Foriginal.20260227-165723.jpg
END:VEVENT
BEGIN:VEVENT
DTSTART;TZID=America/New_York:20260312T180000
DTEND;TZID=America/New_York:20260312T190000
DTSTAMP:20260421T194500
CREATED:20260224T220751Z
LAST-MODIFIED:20260312T234519Z
UID:10000012-1773338400-1773342000@legacytraditional.org
SUMMARY:Legacy Traditional Schools: Parent Info Night - Columbia\, SC
DESCRIPTION:We are excited to invite you and your family to our upcoming Parent Info Night for Legacy Traditional School – Columbia\n\n\n★★ Parent Info Night for Legacy Traditional School – Columbia!★★ \n \n✏️ Join us for the Columbia Parent Info Night to meet our founding principal\, Dr. Prochak\, and learn about: \n📚 Legacy’s well-rounded curriculum – including music\, physical education\, and more \n🏫 How enrollment works\, what to expect with uniforms\, and the LTS school policies \n🎒Details on before- and after-school care programs \n🏗️ A sneak peek at our 87\,000-square-foot campus (currently under construction )\, set to open in the 2026-27 school year. \n❓We’re here to help answer all your questions and guide you every step of the way! \n \n🌟 Exciting 2026 News! 🌟Legacy Traditional Schools is thrilled to announce that we’re coming to South Carolina in Fall 2026! Our brand-new Columbia campus will be the first in South Carolina\, offering an enriching educational experience for students in Kindergarten through 8th grade. \n \n💻 Want to learn more? \n\nTake a virtual tour\nJoin the interest list\nDiscover Legacy’s expansion into South Carolina by visiting\n🔗https://legacytraditional.org/southcarolina/\n\n \nWe look forward to meeting your family! \nDon’t miss out on this chance to connect with us and discover what makes Legacy special.
URL:https://legacytraditional.org/event/legacy-traditional-schools-parent-info-night-columbia-sc/
LOCATION:TX
CATEGORIES:Columbia,South Carolina
ATTACH;FMTTYPE=image/jpeg:https://legacytraditional.org/wp-content/uploads/2026/02/ad85dbd4a0748a090f76bb62cd3020b8.jpg
END:VEVENT
BEGIN:VEVENT
DTSTART;TZID=America/Phoenix:20260307T090000
DTEND;TZID=America/Phoenix:20260307T140000
DTSTAMP:20260421T194500
CREATED:20260224T220749Z
LAST-MODIFIED:20260303T192534Z
UID:10000011-1772874000-1772892000@legacytraditional.org
SUMMARY:Queen Creek Family Market - Schnepf Farm
DESCRIPTION:Join Legacy at the family market on Schnepf Farm!\n\n\nJoin Legacy at the Queen Creek Family Market at Schnepf Farms 🌽🍅 \nThe Family Market is the perfect Saturday outing for the whole family! Explore unique local vendors\, pick up fresh\, farm-grown produce\, and treat yourself to delicious bites from a variety of food trucks. 🌞 \n \nLegacy Traditional Schools will be there\, ready to connect with families and share exciting information about our tuition-free\, public charter school options! 🎓✨ \n \nBring the whole family and enjoy: \n✔️ Tasty eats from local food vendors \n✔️ Shopping from amazing local businesses \n✔️ Fun kids’ activities and entertainment \n✔️ A chance to meet the Legacy team and learn more about our schools \n \nStop by our table to chat\, ask questions\, and discover all the amazing opportunities we offer. We can’t wait to meet you! 💙 \n \nRSVP now!
URL:https://legacytraditional.org/event/queen-creek-family-market-schnepf-farm/
LOCATION:TX
CATEGORIES:Arizona,Queen Creek
ATTACH;FMTTYPE=image/jpeg:https://legacytraditional.org/wp-content/uploads/2026/03/327464b23901a2d12c0d90d8aed3e61f.jpg
END:VEVENT
BEGIN:VEVENT
DTSTART;TZID=America/Phoenix:20260227T090000
DTEND;TZID=America/Phoenix:20260227T110000
DTSTAMP:20260421T194500
CREATED:20260224T220738Z
LAST-MODIFIED:20260303T174709Z
UID:10000009-1772182800-1772190000@legacytraditional.org
SUMMARY:Teddy Bears\, Treats & Tours - Glendale
DESCRIPTION:We’re excited to invite kindergarten families to a ‘bear-iffic’ event at Legacy!\n\n\n🧸 Teddy Bears\, Treats & Tours at Legacy Traditional Schools 🧸 \nJoin us for Teddy Bears\, Treats & Tours\, where future Kinder students can bring along their favorite teddy bear or stuffed animal for a “bear-iffic” campus tour. \nDuring the event: \n\nEach child and their cuddly companion will receive a special “School Tour Badge” sticker to wear while exploring campus\nA meet-and-greet with our Legacy Principal\, plus sweet treats to enjoy\nTake a guided campus tour\, including a visit to a kindergarten classroom\nLearn more about our Kinder curriculum\, programs\, and exciting opportunities\n\nBonus giveaway: Every attending family will be entered into a drawing to win a Legacy Teddy Bear to take home! \nWe can’t wait to welcome you\, your child\, and their teddy bear to the Legacy family. \nIt’s going to be a “beary” fun day!
URL:https://legacytraditional.org/event/teddy-bears-treats-tours-glendale/
LOCATION:Legacy Traditional School – Glendale\, 13901 North 67th Avenue\, Glendale\, AZ\, 85306\, United States
CATEGORIES:Arizona,Glendale
ATTACH;FMTTYPE=image/jpeg:https://legacytraditional.org/wp-content/uploads/2026/02/78f671ca4d18957ad07169208e2ae566.jpg
END:VEVENT
BEGIN:VEVENT
DTSTART;TZID=America/Phoenix:20260227T090000
DTEND;TZID=America/Phoenix:20260227T110000
DTSTAMP:20260421T194500
CREATED:20260224T220738Z
LAST-MODIFIED:20260303T174716Z
UID:10000010-1772182800-1772190000@legacytraditional.org
SUMMARY:Teddy Bears\, Treats & Tours - Mesa
DESCRIPTION:We’re excited to invite kindergarten families to a ‘bear-iffic’ event at Legacy!\n\n\n🧸 Teddy Bears\, Treats & Tours at Legacy Traditional Schools 🧸 \nJoin us for Teddy Bears\, Treats & Tours\, where future Kinder students can bring along their favorite teddy bear or stuffed animal for a “bear-iffic” campus tour. \nDuring the event: \n\nEach child and their cuddly companion will receive a special “School Tour Badge” sticker to wear while exploring campus\nA meet-and-greet with our Legacy Principal\, plus sweet treats to enjoy\nTake a guided campus tour\, including a visit to a kindergarten classroom\nLearn more about our Kinder curriculum\, programs\, and exciting opportunities\n\nBonus giveaway: Every attending family will be entered into a drawing to win a Legacy Teddy Bear to take home! \nWe can’t wait to welcome you\, your child\, and their teddy bear to the Legacy family. \nIt’s going to be a “beary” fun day!
URL:https://legacytraditional.org/event/teddy-bears-treats-tours-mesa/
LOCATION:Legacy Traditional School – Mesa\, 3651 East McKellips Road\, Mesa\, AZ\, 85215\, United States
CATEGORIES:Arizona,Mesa
ATTACH;FMTTYPE=image/jpeg:https://legacytraditional.org/wp-content/uploads/2026/02/5f5cfa63cd5c59384ddde2dad603814f.jpg
END:VEVENT
BEGIN:VEVENT
DTSTART;TZID=America/Phoenix:20260226T100000
DTEND;TZID=America/Phoenix:20260226T130000
DTSTAMP:20260421T194500
CREATED:20260224T220738Z
LAST-MODIFIED:20260303T174722Z
UID:10000007-1772100000-1772110800@legacytraditional.org
SUMMARY:Teddy Bears\, Treats & Tours - Deer Valley
DESCRIPTION:We’re excited to invite kindergarten families to a ‘bear-iffic’ event at Legacy!\n\n\n🧸 Teddy Bears\, Treats & Tours at Legacy Traditional Schools 🧸 \nJoin us for Teddy Bears\, Treats & Tours\, where future Kinder students can bring along their favorite teddy bear or stuffed animal for a “bear-iffic” campus tour. \nDuring the event: \n\nEach child and their cuddly companion will receive a special “School Tour Badge” sticker to wear while exploring campus\nA meet-and-greet with our Legacy Principal\, plus sweet treats to enjoy\nTake a guided campus tour\, including a visit to a kindergarten classroom\nLearn more about our Kinder curriculum\, programs\, and exciting opportunities\n\nBonus giveaway: Every attending family will be entered into a drawing to win a Legacy Teddy Bear to take home! \nWe can’t wait to welcome you\, your child\, and their teddy bear to the Legacy family. \nIt’s going to be a “beary” fun day!
URL:https://legacytraditional.org/event/teddy-bears-treats-tours-deer-valley/
LOCATION:Legacy Traditional School – Deer Valley\, 2747 West Union Hills Drive\, Phoenix\, AZ\, 85027\, United States
CATEGORIES:Arizona,Deer Valley
ATTACH;FMTTYPE=image/jpeg:https://legacytraditional.org/wp-content/uploads/2026/02/78a247b187340afb8f94dfc3943e81b7.jpg
END:VEVENT
BEGIN:VEVENT
DTSTART;TZID=America/Phoenix:20260226T100000
DTEND;TZID=America/Phoenix:20260226T110000
DTSTAMP:20260421T194500
CREATED:20260224T220738Z
LAST-MODIFIED:20260303T174728Z
UID:10000008-1772100000-1772103600@legacytraditional.org
SUMMARY:Teddy Bears\, Treats & Tours - Goodyear
DESCRIPTION:We’re excited to invite kindergarten families to a ‘bear-iffic’ event at Legacy!\n\n\n🧸 Teddy Bears\, Treats & Tours at Legacy Traditional Schools 🧸 \nJoin us for Teddy Bears\, Treats & Tours\, where future Kinder students can bring along their favorite teddy bear or stuffed animal for a “bear-iffic” campus tour. \nDuring the event: \n\nEach child and their cuddly companion will receive a special “School Tour Badge” sticker to wear while exploring campus\nA meet-and-greet with our Legacy Principal\, plus sweet treats to enjoy\nTake a guided campus tour\, including a visit to a kindergarten classroom\nLearn more about our Kinder curriculum\, programs\, and exciting opportunities\n\nBonus giveaway: Every attending family will be entered into a drawing to win a Legacy Teddy Bear to take home! \nWe can’t wait to welcome you\, your child\, and their teddy bear to the Legacy family. \nIt’s going to be a “beary” fun day!
URL:https://legacytraditional.org/event/teddy-bears-treats-tours-goodyear/
LOCATION:Legacy Traditional School – Goodyear\, 16060 West Lower Buckeye Parkway\, Goodyear\, AZ\, 85338\, United States
CATEGORIES:Arizona,Goodyear
ATTACH;FMTTYPE=image/jpeg:https://legacytraditional.org/wp-content/uploads/2026/02/78a247b187340afb8f94dfc3943e81b7.jpg
END:VEVENT
BEGIN:VEVENT
DTSTART;TZID=America/Phoenix:20260226T093000
DTEND;TZID=America/Phoenix:20260226T113000
DTSTAMP:20260421T194500
CREATED:20260224T220737Z
LAST-MODIFIED:20260303T174735Z
UID:10000006-1772098200-1772105400@legacytraditional.org
SUMMARY:Teddy Bears\, Treats & Tours - Gilbert
DESCRIPTION:We’re excited to invite kindergarten families to a ‘bear-iffic’ event at Legacy!\n\n\n🧸 Teddy Bears\, Treats & Tours at Legacy Traditional Schools 🧸 \nJoin us for Teddy Bears\, Treats & Tours\, where future Kinder students can bring along their favorite teddy bear or stuffed animal for a “bear-iffic” campus tour. \nDuring the event: \n\nEach child and their cuddly companion will receive a special “School Tour Badge” sticker to wear while exploring campus\nA meet-and-greet with our Legacy Principal\, plus sweet treats to enjoy\nTake a guided campus tour\, including a visit to a kindergarten classroom\nLearn more about our Kinder curriculum\, programs\, and exciting opportunities\n\nBonus giveaway: Every attending family will be entered into a drawing to win a Legacy Teddy Bear to take home! \nWe can’t wait to welcome you\, your child\, and their teddy bear to the Legacy family. \nIt’s going to be a “beary” fun day!
URL:https://legacytraditional.org/event/teddy-bears-treats-tours-gilbert/
LOCATION:Legacy Traditional School – Gilbert\, 2747 South Recker Road\, Gilbert\, AZ\, 85295\, United States
CATEGORIES:Arizona,Gilbert
ATTACH;FMTTYPE=image/jpeg:https://legacytraditional.org/wp-content/uploads/2026/02/78a247b187340afb8f94dfc3943e81b7.jpg
END:VEVENT
BEGIN:VEVENT
DTSTART;TZID=America/Phoenix:20260226T090000
DTEND;TZID=America/Phoenix:20260226T110000
DTSTAMP:20260421T194500
CREATED:20260224T220737Z
LAST-MODIFIED:20260303T175325Z
UID:10000005-1772096400-1772103600@legacytraditional.org
SUMMARY:Teddy Bears\, Treats & Tours - Casa Grande
DESCRIPTION:We’re excited to invite kindergarten families to a ‘bear-iffic’ event at Legacy!\n\n\n🧸 Teddy Bears\, Treats & Tours at Legacy Traditional Schools 🧸 \nJoin us for Teddy Bears\, Treats & Tours\, where future Kinder students can bring along their favorite teddy bear or stuffed animal for a “bear-iffic” campus tour. \nDuring the event: \n\nEach child and their cuddly companion will receive a special “School Tour Badge” sticker to wear while exploring campus\nA meet-and-greet with our Legacy Principal\, plus sweet treats to enjoy\nTake a guided campus tour\, including a visit to a kindergarten classroom\nLearn more about our Kinder curriculum\, programs\, and exciting opportunities\n\nBonus giveaway: Every attending family will be entered into a drawing to win a Legacy Teddy Bear to take home! \nWe can’t wait to welcome you\, your child\, and their teddy bear to the Legacy family. \nIt’s going to be a “beary” fun day!
URL:https://legacytraditional.org/event/teddy-bears-treats-tours-casa-grande/
LOCATION:Legacy Traditional School – Casa Grande\, 1274 East O'Neil Drive\, Casa Grande\, AZ\, 85122\, United States
CATEGORIES:Arizona,Casa Grande
ATTACH;FMTTYPE=image/jpeg:https://legacytraditional.org/wp-content/uploads/2026/02/78a247b187340afb8f94dfc3943e81b7.jpg
END:VEVENT
BEGIN:VEVENT
DTSTART;TZID=America/Los_Angeles:20260225T090000
DTEND;TZID=America/Los_Angeles:20260225T100000
DTSTAMP:20260421T194500
CREATED:20260224T220737Z
LAST-MODIFIED:20260303T174746Z
UID:10000004-1772010000-1772013600@legacytraditional.org
SUMMARY:Teddy Bears\, Treats & Tours - Cadence
DESCRIPTION:We’re excited to invite kindergarten families to a ‘bear-iffic’ event at Legacy!\n\n\n🧸 Teddy Bears\, Treats & Tours at Legacy Traditional Schools 🧸 \nJoin us for Teddy Bears\, Treats & Tours\, where future Kinder students can bring along their favorite teddy bear or stuffed animal for a “bear-iffic” campus tour. \nDuring the event: \n\nEach child and their cuddly companion will receive a special “School Tour Badge” sticker to wear while exploring campus\nA meet-and-greet with our Legacy Principal\, plus sweet treats to enjoy\nTake a guided campus tour\, including a visit to a kindergarten classroom\nLearn more about our Kinder curriculum\, programs\, and exciting opportunities\n\nBonus giveaway: Every attending family will be entered into a drawing to win a Legacy Teddy Bear to take home! \nWe can’t wait to welcome you\, your child\, and their teddy bear to the Legacy family. \nIt’s going to be a “beary” fun day!
URL:https://legacytraditional.org/event/teddy-bears-treats-tours-cadence/
LOCATION:Legacy Traditional School – Cadence (Henderson)\, 325 Inflection Street\, Henderson\, NV\, 89011\, United States
CATEGORIES:Cadence,Nevada
ATTACH;FMTTYPE=image/jpeg:https://legacytraditional.org/wp-content/uploads/2026/02/78a247b187340afb8f94dfc3943e81b7.jpg
END:VEVENT
BEGIN:VEVENT
DTSTART;TZID=America/Phoenix:20260225T083000
DTEND;TZID=America/Phoenix:20260225T110000
DTSTAMP:20260421T194500
CREATED:20260224T220737Z
LAST-MODIFIED:20260303T174751Z
UID:10000002-1772008200-1772017200@legacytraditional.org
SUMMARY:Teddy Bears\, Treats & Tours - Laveen
DESCRIPTION:We’re excited to invite kindergarten families to a ‘bear-iffic’ event at Legacy!\n\n\n🧸 Teddy Bears\, Treats & Tours at Legacy Traditional Schools 🧸 \nJoin us for Teddy Bears\, Treats & Tours\, where future Kinder students can bring along their favorite teddy bear or stuffed animal for a “bear-iffic” campus tour. \nDuring the event: \n\nEach child and their cuddly companion will receive a special “School Tour Badge” sticker to wear while exploring campus\nA meet-and-greet with our Legacy Principal\, plus sweet treats to enjoy\nTake a guided campus tour\, including a visit to a kindergarten classroom\nLearn more about our Kinder curriculum\, programs\, and exciting opportunities\n\nBonus giveaway: Every attending family will be entered into a drawing to win a Legacy Teddy Bear to take home! \nWe can’t wait to welcome you\, your child\, and their teddy bear to the Legacy family. \nIt’s going to be a “beary” fun day!
URL:https://legacytraditional.org/event/teddy-bears-treats-tours-laveen/
LOCATION:Legacy Traditional School – Laveen\, 7900 South 43rd Avenue\, Phoenix\, AZ\, 85339\, United States
CATEGORIES:Arizona,Laveen
ATTACH;FMTTYPE=image/jpeg:https://legacytraditional.org/wp-content/uploads/2026/02/78a247b187340afb8f94dfc3943e81b7.jpg
END:VEVENT
BEGIN:VEVENT
DTSTART;TZID=America/Phoenix:20260225T083000
DTEND;TZID=America/Phoenix:20260225T103000
DTSTAMP:20260421T194500
CREATED:20260224T220737Z
LAST-MODIFIED:20260303T174757Z
UID:10000003-1772008200-1772015400@legacytraditional.org
SUMMARY:Teddy Bears\, Treats & Tours - Maricopa
DESCRIPTION:We’re excited to invite kindergarten families to a ‘bear-iffic’ event at Legacy!\n\n\n🧸 Teddy Bears\, Treats & Tours at Legacy Traditional Schools 🧸 \nJoin us for Teddy Bears\, Treats & Tours\, where future Kinder students can bring along their favorite teddy bear or stuffed animal for a “bear-iffic” campus tour. \nDuring the event: \n\nEach child and their cuddly companion will receive a special “School Tour Badge” sticker to wear while exploring campus\nA meet-and-greet with our Legacy Principal\, plus sweet treats to enjoy\nTake a guided campus tour\, including a visit to a kindergarten classroom\nLearn more about our Kinder curriculum\, programs\, and exciting opportunities\n\nBonus giveaway: Every attending family will be entered into a drawing to win a Legacy Teddy Bear to take home! \nWe can’t wait to welcome you\, your child\, and their teddy bear to the Legacy family. \nIt’s going to be a “beary” fun day!
URL:https://legacytraditional.org/event/teddy-bears-treats-tours-maricopa/
LOCATION:Legacy Traditional School – Maricopa\, 17760 Regent Drive\, Maricopa\, AZ\, 85138\, United States
CATEGORIES:Arizona,Maricopa
ATTACH;FMTTYPE=image/jpeg:https://legacytraditional.org/wp-content/uploads/2026/02/78a247b187340afb8f94dfc3943e81b7.jpg
END:VEVENT
BEGIN:VEVENT
DTSTART;TZID=America/Phoenix:20260224T073000
DTEND;TZID=America/Phoenix:20260224T160000
DTSTAMP:20260421T194500
CREATED:20260224T220734Z
LAST-MODIFIED:20260303T174803Z
UID:10000001-1771918200-1771948800@legacytraditional.org
SUMMARY:Teddy Bears\, Treats & Tours - NW Tucson
DESCRIPTION:We’re excited to invite kindergarten families to a ‘bear-iffic’ event at Legacy!\n\n\n🧸 Teddy Bears\, Treats & Tours at Legacy Traditional Schools 🧸 \nJoin us for Teddy Bears\, Treats & Tours\, where future Kinder students can bring along their favorite teddy bear or stuffed animal for a “bear-iffic” campus tour. \nDuring the event: \n\nEach child and their cuddly companion will receive a special “School Tour Badge” sticker to wear while exploring campus\nA meet-and-greet with our Legacy Principal\, plus sweet treats to enjoy\nTake a guided campus tour\, including a visit to a kindergarten classroom\nLearn more about our Kinder curriculum\, programs\, and exciting opportunities\n\nBonus giveaway: Every attending family will be entered into a drawing to win a Legacy Teddy Bear to take home! \nWe can’t wait to welcome you\, your child\, and their teddy bear to the Legacy family. \nIt’s going to be a “beary” fun day!
URL:https://legacytraditional.org/event/teddy-bears-treats-tours-nw-tucson/
LOCATION:Legacy Traditional School – NW Tucson\, 3500 West Cortaro Farms Road\, Tucson\, AZ\, 85742\, United States
CATEGORIES:Arizona,Northwest Tucson
ATTACH;FMTTYPE=image/jpeg:https://legacytraditional.org/wp-content/uploads/2026/02/78a247b187340afb8f94dfc3943e81b7.jpg
END:VEVENT
END:VCALENDAR