BEGIN:VCALENDAR
VERSION:2.0
PRODID:-//Legacy Traditional Schools - ECPv6.15.17.1//NONSGML v1.0//EN
CALSCALE:GREGORIAN
METHOD:PUBLISH
X-WR-CALNAME:Legacy Traditional Schools
X-ORIGINAL-URL:https://legacytraditional.org
X-WR-CALDESC:Events for Legacy Traditional Schools
REFRESH-INTERVAL;VALUE=DURATION:PT1H
X-Robots-Tag:noindex
X-PUBLISHED-TTL:PT1H
BEGIN:VTIMEZONE
TZID:America/Phoenix
BEGIN:STANDARD
TZOFFSETFROM:-0700
TZOFFSETTO:-0700
TZNAME:MST
DTSTART:20250101T000000
END:STANDARD
END:VTIMEZONE
BEGIN:VEVENT
DTSTART;TZID=America/Phoenix:20260425T090000
DTEND;TZID=America/Phoenix:20260425T140000
DTSTAMP:20260424T121028
CREATED:20260302T230107Z
LAST-MODIFIED:20260323T203541Z
UID:10000015-1777107600-1777125600@legacytraditional.org
SUMMARY:Queen Creek Family Market - Schnepf Farm
DESCRIPTION:Join Legacy at the family market on Schnepf Farm!\n\n\nJoin Legacy at the Queen Creek Family Market at Schnepf Farms 🌽🍅 \nThe Family Market is the perfect Saturday outing for the whole family! Explore unique local vendors\, pick up fresh\, farm-grown produce\, and treat yourself to delicious bites from a variety of food trucks. 🌞 \n \nLegacy Traditional Schools will be there\, ready to connect with families and share exciting information about our tuition-free\, public charter school options! 🎓✨ \n \nBring the whole family and enjoy: \n✔️ Tasty eats from local food vendors \n✔️ Shopping from amazing local businesses \n✔️ Fun kids’ activities and entertainment \n✔️ A chance to meet the Legacy team and learn more about our schools \n \nStop by our table to chat\, ask questions\, and discover all the amazing opportunities we offer. We can’t wait to meet you! 💙 \n \nRSVP now!
URL:https://legacytraditional.org/event/queen-creek-family-market-schnepf-farm-4/
LOCATION:Schnepf Farms\, 24810 South Rittenhouse Road\, Queen Creek\, AZ\, 85142\, United States
CATEGORIES:Arizona,Queen Creek
ATTACH;FMTTYPE=image/jpeg:https://legacytraditional.org/wp-content/uploads/2026/03/927dbcc78405525a0ca9a0309b313b62.jpg
END:VEVENT
BEGIN:VEVENT
DTSTART;TZID=America/Phoenix:20260430T170000
DTEND;TZID=America/Phoenix:20260430T180000
DTSTAMP:20260424T121028
CREATED:20260327T220639Z
LAST-MODIFIED:20260414T195035Z
UID:10000244-1777568400-1777572000@legacytraditional.org
SUMMARY:Kinder Sneak Peek - Glendale
DESCRIPTION:We are excited to welcome the “Class of 2039” to our Kindergarten Sneak Peek!\n\n\nYou’re invited to Kinder Sneak Peek at Legacy Traditional Schools! \nDo you have a child starting kindergarten this fall? \nCome join Legacy – Glendale for a FUN Kinder Sneak Peek “DREAM BIG “event to get excited for the start of school in Fall 2026. \nMeet our teachers\, explore engaging activity stations\, take a campus tour\, and peek into our Kinder classrooms. It’s the perfect way to help your child feel comfortable and excited about their big first year. \n\nThis event is for incoming and prospective Kinder families\n\nWe can’t wait to meet our future Legacy – Glendale kinder students!!! \nNow Enrolling for 2026-27 School Year! \nClick HERE for Kindergarten info at Legacy Traditional Schools.
URL:https://legacytraditional.org/event/kinder-sneak-peek-glendale/
LOCATION:Legacy Traditional School – Glendale\, 13901 North 67th Avenue\, Glendale\, AZ\, 85306\, United States
CATEGORIES:Arizona,Glendale
ATTACH;FMTTYPE=image/jpeg:https://legacytraditional.org/wp-content/uploads/2026/03/55e075f7f1349c008494d140b2022d63.jpg
END:VEVENT
END:VCALENDAR